BEGIN:VCALENDAR
VERSION:2.0
PRODID:-//www.martinarts.org//NONSGML kigkonsult.se iCalcreator 2.30.10//
CALSCALE:GREGORIAN
METHOD:PUBLISH
UID:bcf10a89-7f06-4efb-ab0a-a147f1666ae1
X-WR-CALDESC:Every Thursday from 6 – 9:30 PM in downtown Jensen Beach (on J
 ensen Beach Boulevard)\, Jammin Jensen offers a mini-festival of local art
 ists’ displays\, music\, vendors\, and family entertainment! \n\nThere is 
 no admission fee — it’s FREE! \n\n(*Please note\; The event is not held on
  Thanksgiving)
X-WR-RELCALID:3571ba0da68cb7510ea4804827bd2a98
X-WR-TIMEZONE:America/New_York
BEGIN:VTIMEZONE
TZID:America/New_York
BEGIN:STANDARD
TZNAME:EST
DTSTART:20221106T020000
TZOFFSETFROM:-0400
TZOFFSETTO:-0500
RDATE:20231105T020000
END:STANDARD
BEGIN:DAYLIGHT
TZNAME:EDT
DTSTART:20220313T020000
TZOFFSETFROM:-0500
TZOFFSETTO:-0400
RDATE:20230312T020000
RDATE:20240310T020000
END:DAYLIGHT
END:VTIMEZONE
BEGIN:VEVENT
UID:3f2a43ae-a799-41f1-a980-b4266dcec6bd
DTSTAMP:20260421T032244Z
DESCRIPTION:Every Thursday from 6 – 9:30 PM in downtown Jensen Beach (on Je
 nsen Beach Boulevard)\, Jammin Jensen offers a mini-festival of local arti
 sts’ displays\, music\, vendors\, and family entertainment! \n\nThere is n
 o admission fee — it’s FREE! \n\n(*Please note\; The event is not held on 
 Thanksgiving)
DTSTART;TZID=America/New_York:20230119T180000
DTEND;TZID=America/New_York:20230119T213000
LOCATION:Downtown Jensen Beach
SUMMARY:Jammin' in Jensen
END:VEVENT
END:VCALENDAR
