BEGIN:VCALENDAR
VERSION:2.0
PRODID:-//www.martinarts.org//NONSGML kigkonsult.se iCalcreator 2.30.10//
CALSCALE:GREGORIAN
METHOD:PUBLISH
UID:83aa974a-9f99-483d-b2e2-f422562e456c
X-WR-CALDESC:A 33-year legacy exhibition featuring all Florida artists in a
 ll media.  \n\nExhibit dates: January 9 - February 29\, 2024\n\nAwards Rec
 eption  Friday\, January 12 | 5:30PM–7PM\n\nJuror's Lecture: Saturday\, Ja
 nuary 13 at 11AM\nHow a path through the woods as a child has become a jou
 rney of discovery with God through art\, therapy\, and enlightenment. Rese
 rve your seat here.\n\nJuror: Gregory Jones\nArtist Statement: To reach in
 side and free the creative child within each of us is basically what my ar
 t is about. I might begin with a used air conditioner filter as in “Dust t
 o Dust” or a bright red cloth tie as in “Man Under Paints With Red Tie”\, 
 but from that point I seldom know what direction the work will take. I sim
 ply “follow paths through the woods” as I did as a child growing up near t
 he Blue Ridge Mountains of Virginia. I played in the mud a lot\, then grew
  up and played in the muddy paint a lot. When I played I learned that some
  good things sometimes happened. Then I learned that I could get the good 
 things that happened to grow like a plant until the whole canvas would som
 etimes be a good thing.\n\nIt is probably from dust that we come and to du
 st that we go\, but in between there is growth. When all is said and done\
 , how much we have grown determines the richness of the soil we leave on w
 hich others will trod. From the muddy mess I often make in art and life is
  born the lesson of humility and discovery.\n\nThe idealism of my youth an
 d the realism of adult life run head-on in my work to form an expression t
 hat merges seriousness with playfulness and superficiality with depth. Som
 ewhere inside that depth is an innocent child\, a very good person who can
  touch nature\, and when I visit with him (or her) I learn to love\, to fl
 y\, to live. To this day it is that sincere\, sensitive child seeing and f
 eeling nature that my art echoes and that moves my spirit to create my mix
 ed media “layered” paintings. I only wish there were more days when he cou
 ld come out to play.\n\n \nFeatured Artists\n\nGlen Allen\, Robert Bernste
 in\, Enid Blechman\, Barbara Bose\, Jerilyn Brown\, Holly Cannon\, Linda C
 hipperfield\, Becky Coleman\, Maggie Dillon\, Gabriele DiTota\, Kimberly E
 ngel\, Brendan Fisk\, Todd  K Fox\, Barbara Fugazzotto\, Susan Giblin\, Ry
 an Michael Gleason\, Rene Guerin\, Erika Heffernan\, Latonya Hicks\, Judy 
 Horowitz\, Heather Ivins\, Denise Jackson\, Carson Kapp\, Martin Karadzhov
 \, Chloe Kelley\, Claudia Jane Klein\, Michael Knapp\, Tina Kraft\, Joe Kr
 awczyk\, Anita Lamb\, Alice Laputka\, Julia Longwell\, Robin Marshall\, Er
 in McCullough\, Gary Menzel\, Dawn Inglis Montgomery\, Lynn Morgan\, Katya
  Neptune\, Daniel Newcomb\, Janis Clary Oehlschlager\, Raymond Olivero\, K
 athy Omeara\, Caryl Pomales\, Molly Potter\, Thomas Prestopnik\, Galal Ram
 adan\, Patricia Reagan\, D. S. Reif\, JL Schwartz\, Norman Silva\, Harriet
  Silverstein\, Richard P Stevens\, David Valiente\, Jim Wang\, Elaine Webe
 r\, Terry White\, Laura Kay Whiticar-Darvill\, Harris Wiltsher\n \n\nCover
  Image: 1st Place 2022 “Phobos' by Martin Dunn\n\nVisit our Current Exhibi
 tions page to learn more: https://www.martinarts.org/court-house-cultural-
 center/currentexhibitions.html\n\nGallery Location: 80 SE Ocean Blvd.\, St
 uart\, FL 34994\n*Gallery Hours (only during an exhibit)\nTuesday 10AM–6PM
  and Wednesday–Saturday 10AM–4PM or by appointment\n\nA donation of $5 in 
 support of our exhibitions and programs is requested.\n\nSponsored in part
  by the State of Florida through the Division of Arts and Culture and the 
 National Endowment for the Arts\, Martin County Board of County Commission
 ers\, and private contributions.
X-WR-RELCALID:b3fb8209833457415e0e1d16c91d2ccd
X-WR-TIMEZONE:America/New_York
BEGIN:VTIMEZONE
TZID:America/New_York
BEGIN:STANDARD
TZNAME:EST
DTSTART:20231105T020000
TZOFFSETFROM:-0400
TZOFFSETTO:-0500
RDATE:20241103T020000
END:STANDARD
BEGIN:DAYLIGHT
TZNAME:EDT
DTSTART:20230312T020000
TZOFFSETFROM:-0500
TZOFFSETTO:-0400
RDATE:20240310T020000
RDATE:20250309T020000
END:DAYLIGHT
END:VTIMEZONE
BEGIN:VEVENT
UID:76303297-ec77-4411-ac99-24fbc58b43b3
DTSTAMP:20260425T004236Z
DESCRIPTION:A 33-year legacy exhibition featuring all Florida artists in al
 l media.  \n\nExhibit dates: January 9 - February 29\, 2024\n\nAwards Rece
 ption  Friday\, January 12 | 5:30PM–7PM\n\nJuror's Lecture: Saturday\, Jan
 uary 13 at 11AM\nHow a path through the woods as a child has become a jour
 ney of discovery with God through art\, therapy\, and enlightenment. Reser
 ve your seat here.\n\nJuror: Gregory Jones\nArtist Statement: To reach ins
 ide and free the creative child within each of us is basically what my art
  is about. I might begin with a used air conditioner filter as in “Dust to
  Dust” or a bright red cloth tie as in “Man Under Paints With Red Tie”\, b
 ut from that point I seldom know what direction the work will take. I simp
 ly “follow paths through the woods” as I did as a child growing up near th
 e Blue Ridge Mountains of Virginia. I played in the mud a lot\, then grew 
 up and played in the muddy paint a lot. When I played I learned that some 
 good things sometimes happened. Then I learned that I could get the good t
 hings that happened to grow like a plant until the whole canvas would some
 times be a good thing.\n\nIt is probably from dust that we come and to dus
 t that we go\, but in between there is growth. When all is said and done\,
  how much we have grown determines the richness of the soil we leave on wh
 ich others will trod. From the muddy mess I often make in art and life is 
 born the lesson of humility and discovery.\n\nThe idealism of my youth and
  the realism of adult life run head-on in my work to form an expression th
 at merges seriousness with playfulness and superficiality with depth. Some
 where inside that depth is an innocent child\, a very good person who can 
 touch nature\, and when I visit with him (or her) I learn to love\, to fly
 \, to live. To this day it is that sincere\, sensitive child seeing and fe
 eling nature that my art echoes and that moves my spirit to create my mixe
 d media “layered” paintings. I only wish there were more days when he coul
 d come out to play.\n\n \nFeatured Artists\n\nGlen Allen\, Robert Bernstei
 n\, Enid Blechman\, Barbara Bose\, Jerilyn Brown\, Holly Cannon\, Linda Ch
 ipperfield\, Becky Coleman\, Maggie Dillon\, Gabriele DiTota\, Kimberly En
 gel\, Brendan Fisk\, Todd  K Fox\, Barbara Fugazzotto\, Susan Giblin\, Rya
 n Michael Gleason\, Rene Guerin\, Erika Heffernan\, Latonya Hicks\, Judy H
 orowitz\, Heather Ivins\, Denise Jackson\, Carson Kapp\, Martin Karadzhov\
 , Chloe Kelley\, Claudia Jane Klein\, Michael Knapp\, Tina Kraft\, Joe Kra
 wczyk\, Anita Lamb\, Alice Laputka\, Julia Longwell\, Robin Marshall\, Eri
 n McCullough\, Gary Menzel\, Dawn Inglis Montgomery\, Lynn Morgan\, Katya 
 Neptune\, Daniel Newcomb\, Janis Clary Oehlschlager\, Raymond Olivero\, Ka
 thy Omeara\, Caryl Pomales\, Molly Potter\, Thomas Prestopnik\, Galal Rama
 dan\, Patricia Reagan\, D. S. Reif\, JL Schwartz\, Norman Silva\, Harriet 
 Silverstein\, Richard P Stevens\, David Valiente\, Jim Wang\, Elaine Weber
 \, Terry White\, Laura Kay Whiticar-Darvill\, Harris Wiltsher\n \n\nCover 
 Image: 1st Place 2022 “Phobos' by Martin Dunn\n\nVisit our Current Exhibit
 ions page to learn more: https://www.martinarts.org/court-house-cultural-c
 enter/currentexhibitions.html\n\nGallery Location: 80 SE Ocean Blvd.\, Stu
 art\, FL 34994\n*Gallery Hours (only during an exhibit)\nTuesday 10AM–6PM 
 and Wednesday–Saturday 10AM–4PM or by appointment\n\nA donation of $5 in s
 upport of our exhibitions and programs is requested.\n\nSponsored in part 
 by the State of Florida through the Division of Arts and Culture and the N
 ational Endowment for the Arts\, Martin County Board of County Commissione
 rs\, and private contributions.
DTSTART;TZID=America/New_York:20240203T100000
DTEND;TZID=America/New_York:20240203T160000
LOCATION:80 SE Ocean Blvd\, Stuart\, FL 34994 US
SUMMARY:33rd Annual All Florida Juried Art Show
END:VEVENT
END:VCALENDAR
