BEGIN:VCALENDAR
VERSION:2.0
PRODID:-//www.martinarts.org//NONSGML kigkonsult.se iCalcreator 2.30.10//
CALSCALE:GREGORIAN
METHOD:PUBLISH
UID:dc3622dc-4f3f-4932-a526-d3b76ff5d5ad
X-WR-CALDESC:Come enjoy 'FIRST FRIDAYS' in THE CREEK\, Stuart's colorful Ar
 ts & Entertainment District! A free event for all ages\, open to the publi
 c. Stroll the Colorado Ave. area\, and visit more than 20 participating lo
 cations -- all of which are featuring visual or performing artists and hol
 ding Open House. You'll find refreshments\, free samples\, demos and deals
  all along the way!\n\nTHE CREEK is a walkable district\, extending from U
 S1 to Ocean Ave along Colorado Ave and side streets including Kindred St.\
 , Martin Luther King\, and SE 6th St.\, Johnson Ave. and Dixie Hwy. Partic
 ipating locations will provide you with a map outlining the District and m
 arking the locations for the Creek Walk. The walk takes place monthly from
  5 to 9 PM\, and we thank you for your support of this diverse business di
 strict and the variety of retailers and professional service businesses lo
 cated within. THE CREEK...Where Creativity Flows!\n\n\nhttps://www.faceboo
 k.com/TheCreekDistrict/
X-WR-RELCALID:dea71677c4d19189d370491f1455d751
X-WR-TIMEZONE:America/New_York
BEGIN:VTIMEZONE
TZID:America/New_York
BEGIN:STANDARD
TZNAME:EST
DTSTART:20251102T020000
TZOFFSETFROM:-0400
TZOFFSETTO:-0500
RDATE:20261101T020000
END:STANDARD
BEGIN:DAYLIGHT
TZNAME:EDT
DTSTART:20250309T020000
TZOFFSETFROM:-0500
TZOFFSETTO:-0400
RDATE:20260308T020000
RDATE:20270314T020000
END:DAYLIGHT
END:VTIMEZONE
BEGIN:VEVENT
UID:9a6a295d-8bb4-47cb-be33-fbbe67fd40db
DTSTAMP:20260424T125904Z
DESCRIPTION:Come enjoy 'FIRST FRIDAYS' in THE CREEK\, Stuart's colorful Art
 s & Entertainment District! A free event for all ages\, open to the public
 . Stroll the Colorado Ave. area\, and visit more than 20 participating loc
 ations -- all of which are featuring visual or performing artists and hold
 ing Open House. You'll find refreshments\, free samples\, demos and deals 
 all along the way!\n\nTHE CREEK is a walkable district\, extending from US
 1 to Ocean Ave along Colorado Ave and side streets including Kindred St.\,
  Martin Luther King\, and SE 6th St.\, Johnson Ave. and Dixie Hwy. Partici
 pating locations will provide you with a map outlining the District and ma
 rking the locations for the Creek Walk. The walk takes place monthly from 
 5 to 9 PM\, and we thank you for your support of this diverse business dis
 trict and the variety of retailers and professional service businesses loc
 ated within. THE CREEK...Where Creativity Flows!\n\n\nhttps://www.facebook
 .com/TheCreekDistrict/
DTSTART;TZID=America/New_York:20260102T170000
DTEND;TZID=America/New_York:20260102T200000
LOCATION:The Creek Arts + Entertainment District
SUMMARY:First Friday CREEK Walk
END:VEVENT
END:VCALENDAR
