BEGIN:VCALENDAR
VERSION:2.0
PRODID:-//www.martinarts.org//NONSGML kigkonsult.se iCalcreator 2.30.10//
CALSCALE:GREGORIAN
METHOD:PUBLISH
UID:cb39d154-57d1-4d1c-8b68-274e3cdf1105
X-WR-CALDESC:Sometimes a group of musicians sit down together to jam\, and 
 magic happens. For Sister Sadie\, the groundbreaking\, all-female bluegras
 s band\, that happened during a one-off jam session at Nashville’s legenda
 ry Station Inn. Their chemistry transformed a casual collaboration into a 
 full-time powerhouse. Today\, Sister Sadie is known for electrifying perfo
 rmances\, stellar musicianship\, and the seamless blend of tradition and i
 nnovation they bring to bluegrass music. Sister Sadie has released three c
 ritically acclaimed albums: their debut album\, 2016’s Sister Sadie\, intr
 oduced them to the world\; their sophomore release\, Sister Sadie II\, in 
 2018\, solidified their reputation as one of the leading acts in bluegrass
 .\n\nhttps://www.lyrictheatre.com/show/11554-sister-sadie
X-WR-RELCALID:01ccce0de66c2932e179f7fb0faa3331
X-WR-TIMEZONE:America/New_York
BEGIN:VTIMEZONE
TZID:America/New_York
BEGIN:STANDARD
TZNAME:EST
DTSTART:20251102T020000
TZOFFSETFROM:-0400
TZOFFSETTO:-0500
RDATE:20261101T020000
END:STANDARD
BEGIN:DAYLIGHT
TZNAME:EDT
DTSTART:20250309T020000
TZOFFSETFROM:-0500
TZOFFSETTO:-0400
RDATE:20260308T020000
RDATE:20270314T020000
END:DAYLIGHT
END:VTIMEZONE
BEGIN:VEVENT
UID:765a792c-f77e-4021-a437-11fd620aa6f8
DTSTAMP:20260424T125827Z
DESCRIPTION:Sometimes a group of musicians sit down together to jam\, and m
 agic happens. For Sister Sadie\, the groundbreaking\, all-female bluegrass
  band\, that happened during a one-off jam session at Nashville’s legendar
 y Station Inn. Their chemistry transformed a casual collaboration into a f
 ull-time powerhouse. Today\, Sister Sadie is known for electrifying perfor
 mances\, stellar musicianship\, and the seamless blend of tradition and in
 novation they bring to bluegrass music. Sister Sadie has released three cr
 itically acclaimed albums: their debut album\, 2016’s Sister Sadie\, intro
 duced them to the world\; their sophomore release\, Sister Sadie II\, in 2
 018\, solidified their reputation as one of the leading acts in bluegrass.
 \n\nhttps://www.lyrictheatre.com/show/11554-sister-sadie
DTSTART;TZID=America/New_York:20260109T190000
DTEND;TZID=America/New_York:20260109T203000
LOCATION:59 SW Flagler Ave\, Stuart\, FL 34994 US
SUMMARY:Sister Sadie
END:VEVENT
END:VCALENDAR
