BEGIN:VCALENDAR
VERSION:2.0
PRODID:-//www.martinarts.org//NONSGML kigkonsult.se iCalcreator 2.30.10//
CALSCALE:GREGORIAN
METHOD:PUBLISH
UID:94944e4d-1a91-443b-b6e4-d8eeea75655e
X-WR-CALDESC:Artist Talk presented by Donne Bitner\, juror for the 35th Ann
 ual All Florida Juried Art Show\n\nTo learn more about the juror visit: ht
 tps://www.donnebitner.com/\n\nLecture Statement:\nIn my talk\, I will shar
 e an overview of the exhibition and the awards\, with a reminder that the 
 judging reflects one person’s perspective and was shaped in part by the si
 ze constraints of the gallery. Even so\, the final show demonstrates wonde
 rful diversity\, craftsmanship\, and imagination. Serving as juror was bot
 h a significant responsibility and a true honor—and\, as every judge knows
 \, there is never enough space to include all the exceptional work. I will
  also share my own journey as an artist through the presentation\, highlig
 hting the highs and lows of life as an exhibiting artist.\n\nFree and open
  to the public. Registration requested for in person attendance\n\nVisit o
 ur Current Exhibitions page to learn more: https://www.martinarts.org/cour
 t-house-cultural-center/currentexhibitions.html\n\nGallery Location: 80 SE
  Ocean Blvd.\, Stuart\, FL 34994\n*Gallery Hours (only during an exhibit)
 \nTuesday 10AM–6PM and Wednesday–Saturday 10AM–4PM or by appointment\n\nA 
 donation of $5 in support of our exhibitions and programs is requested.\n
 \nSponsored in part by the State of Florida through the Division of Arts a
 nd Culture and the National Endowment for the Arts\, Martin County Board o
 f County Commissioners\, and private contributions.\n\n
X-WR-RELCALID:29344a1f48805936ac54c8f1a9e0d44d
X-WR-TIMEZONE:America/New_York
BEGIN:VTIMEZONE
TZID:America/New_York
BEGIN:STANDARD
TZNAME:EST
DTSTART:20251102T020000
TZOFFSETFROM:-0400
TZOFFSETTO:-0500
RDATE:20261101T020000
END:STANDARD
BEGIN:DAYLIGHT
TZNAME:EDT
DTSTART:20250309T020000
TZOFFSETFROM:-0500
TZOFFSETTO:-0400
RDATE:20260308T020000
RDATE:20270314T020000
END:DAYLIGHT
END:VTIMEZONE
BEGIN:VEVENT
UID:a84375fc-67f2-4165-8eb4-edf2cd6a0e14
DTSTAMP:20260424T131352Z
DESCRIPTION:Artist Talk presented by Donne Bitner\, juror for the 35th Annu
 al All Florida Juried Art Show\n\nTo learn more about the juror visit: htt
 ps://www.donnebitner.com/\n\nLecture Statement:\nIn my talk\, I will share
  an overview of the exhibition and the awards\, with a reminder that the j
 udging reflects one person’s perspective and was shaped in part by the siz
 e constraints of the gallery. Even so\, the final show demonstrates wonder
 ful diversity\, craftsmanship\, and imagination. Serving as juror was both
  a significant responsibility and a true honor—and\, as every judge knows\
 , there is never enough space to include all the exceptional work. I will 
 also share my own journey as an artist through the presentation\, highligh
 ting the highs and lows of life as an exhibiting artist.\n\nFree and open 
 to the public. Registration requested for in person attendance\n\nVisit ou
 r Current Exhibitions page to learn more: https://www.martinarts.org/court
 -house-cultural-center/currentexhibitions.html\n\nGallery Location: 80 SE 
 Ocean Blvd.\, Stuart\, FL 34994\n*Gallery Hours (only during an exhibit)\n
 Tuesday 10AM–6PM and Wednesday–Saturday 10AM–4PM or by appointment\n\nA do
 nation of $5 in support of our exhibitions and programs is requested.\n\nS
 ponsored in part by the State of Florida through the Division of Arts and 
 Culture and the National Endowment for the Arts\, Martin County Board of C
 ounty Commissioners\, and private contributions.\n\n
DTSTART;TZID=America/New_York:20260110T110000
DTEND;TZID=America/New_York:20260110T120000
LOCATION:80 SE Ocean Blvd.\, Stuart\, FL 34994 US
SUMMARY:CHCC Gallery | 35th Annual All Florida Juried Art Show - Juror's Ta
 lk
END:VEVENT
END:VCALENDAR
