BEGIN:VCALENDAR
VERSION:2.0
PRODID:-//www.martinarts.org//NONSGML kigkonsult.se iCalcreator 2.30.10//
CALSCALE:GREGORIAN
METHOD:PUBLISH
UID:bb48978d-856f-4ba3-8913-d76631c88e4d
X-WR-CALDESC:Paul Thorn’s latest album\, Life Is Just a Vapor\, showcases h
 is signature blend of soulful Southern storytelling\, wit\, and wisdom wra
 pped in simple\, powerful lyrics. With over three decades of songwriting u
 nder his belt\, Thorn continues to distill big truths into small\, memorab
 le phrases - mantras like “tough times don’t last\, but tough people do\,”
  and the album’s title track\, which captures the fleeting nature of life.
  Whether he’s tapping into humor\, heartbreak\, or hope\, Thorn’s writing 
 style leans on minimalism to leave a lasting impact. The songs in Life Is 
 Just a Vapor draw from real-life people and experiences\, turning the ever
 yday into engaging narratives. Tracks like “Geraldine and Ricky” and “Wait
 ” are inspired by colorful characters from Thorn’s life\, often blending a
 bsurdity with deeper themes. Geraldine\, for example\, is based on a ventr
 iloquist evangelist from Thorn’s childhood\, reimagined as a cunning oppor
 tunist who ultimately faces karma.\n\nhttps://www.lyrictheatre.com/show/11
 556-paul-thorn
X-WR-RELCALID:dc76a2d3e6ba1c2c1de3e51d64418d4d
X-WR-TIMEZONE:America/New_York
BEGIN:VTIMEZONE
TZID:America/New_York
BEGIN:STANDARD
TZNAME:EST
DTSTART:20251102T020000
TZOFFSETFROM:-0400
TZOFFSETTO:-0500
RDATE:20261101T020000
END:STANDARD
BEGIN:DAYLIGHT
TZNAME:EDT
DTSTART:20250309T020000
TZOFFSETFROM:-0500
TZOFFSETTO:-0400
RDATE:20260308T020000
RDATE:20270314T020000
END:DAYLIGHT
END:VTIMEZONE
BEGIN:VEVENT
UID:166fb4f7-4e6a-4b9f-94ec-de9db4498c94
DTSTAMP:20260424T141924Z
DESCRIPTION:Paul Thorn’s latest album\, Life Is Just a Vapor\, showcases hi
 s signature blend of soulful Southern storytelling\, wit\, and wisdom wrap
 ped in simple\, powerful lyrics. With over three decades of songwriting un
 der his belt\, Thorn continues to distill big truths into small\, memorabl
 e phrases - mantras like “tough times don’t last\, but tough people do\,” 
 and the album’s title track\, which captures the fleeting nature of life. 
 Whether he’s tapping into humor\, heartbreak\, or hope\, Thorn’s writing s
 tyle leans on minimalism to leave a lasting impact. The songs in Life Is J
 ust a Vapor draw from real-life people and experiences\, turning the every
 day into engaging narratives. Tracks like “Geraldine and Ricky” and “Wait”
  are inspired by colorful characters from Thorn’s life\, often blending ab
 surdity with deeper themes. Geraldine\, for example\, is based on a ventri
 loquist evangelist from Thorn’s childhood\, reimagined as a cunning opport
 unist who ultimately faces karma.\n\nhttps://www.lyrictheatre.com/show/115
 56-paul-thorn
DTSTART;TZID=America/New_York:20260110T190000
DTEND;TZID=America/New_York:20260110T203000
LOCATION:59 SW Flagler Ave\, Stuart\, FL 34994 US
SUMMARY:Paul Thorn
END:VEVENT
END:VCALENDAR
