BEGIN:VCALENDAR
VERSION:2.0
PRODID:-//www.martinarts.org//NONSGML kigkonsult.se iCalcreator 2.30.10//
CALSCALE:GREGORIAN
METHOD:PUBLISH
UID:8f01f804-79cd-423f-83ee-5e4d86e926a2
X-WR-CALDESC:A 35-year legacy exhibition showcasing recent art by all Flori
 da artists in all media. Exhibited works span the mediums of watercolor\, 
 ceramics\, acrylic\, oil\, photography\, clay\, encaustic\, wood\, metal\,
  glass\, and intaglio from 44 artists from Tallahassee to Miami.\n\nExhibi
 t dates: January 10 - February 28\, 2026\n\nOpening & Awards Reception  Fr
 iday\, January 9 | 5:30PM–7PM\n\nJuror's Lecture: Saturday\, January 10 at
  11AM\n\nJuror:  Donne Biter\nTo learn more about the juror visit: https:/
 /www.donnebitner.com/\n\nVisit our Current Exhibitions page to learn more:
  https://www.martinarts.org/court-house-cultural-center/currentexhibitions
 .html\n\nGallery Location: 80 SE Ocean Blvd.\, Stuart\, FL 34994\n*Gallery
  Hours (only during an exhibit)\nTuesday 10AM–6PM and Wednesday–Saturday 1
 0AM–4PM or by appointment\n\nA donation of $5 in support of our exhibition
 s and programs is requested.\n\nSponsored in part by the State of Florida 
 through the Division of Arts and Culture and the National Endowment for th
 e Arts\, Martin County Board of County Commissioners\, and private contrib
 utions.
X-WR-RELCALID:a5c0f0aaa9de76a4d9bab547dbd44247
X-WR-TIMEZONE:America/New_York
BEGIN:VTIMEZONE
TZID:America/New_York
BEGIN:STANDARD
TZNAME:EST
DTSTART:20251102T020000
TZOFFSETFROM:-0400
TZOFFSETTO:-0500
RDATE:20261101T020000
END:STANDARD
BEGIN:DAYLIGHT
TZNAME:EDT
DTSTART:20250309T020000
TZOFFSETFROM:-0500
TZOFFSETTO:-0400
RDATE:20260308T020000
RDATE:20270314T020000
END:DAYLIGHT
END:VTIMEZONE
BEGIN:VEVENT
UID:2ff7b55a-9d66-475f-8b69-5c2ce49a953f
DTSTAMP:20260424T143645Z
DESCRIPTION:A 35-year legacy exhibition showcasing recent art by all Florid
 a artists in all media. Exhibited works span the mediums of watercolor\, c
 eramics\, acrylic\, oil\, photography\, clay\, encaustic\, wood\, metal\, 
 glass\, and intaglio from 44 artists from Tallahassee to Miami.\n\nExhibit
  dates: January 10 - February 28\, 2026\n\nOpening & Awards Reception  Fri
 day\, January 9 | 5:30PM–7PM\n\nJuror's Lecture: Saturday\, January 10 at 
 11AM\n\nJuror:  Donne Biter\nTo learn more about the juror visit: https://
 www.donnebitner.com/\n\nVisit our Current Exhibitions page to learn more: 
 https://www.martinarts.org/court-house-cultural-center/currentexhibitions.
 html\n\nGallery Location: 80 SE Ocean Blvd.\, Stuart\, FL 34994\n*Gallery 
 Hours (only during an exhibit)\nTuesday 10AM–6PM and Wednesday–Saturday 10
 AM–4PM or by appointment\n\nA donation of $5 in support of our exhibitions
  and programs is requested.\n\nSponsored in part by the State of Florida t
 hrough the Division of Arts and Culture and the National Endowment for the
  Arts\, Martin County Board of County Commissioners\, and private contribu
 tions.
DTSTART;TZID=America/New_York:20260113T100000
DTEND;TZID=America/New_York:20260113T180000
LOCATION:MartinArts\, 80 SE Ocean Blvd.\, Stuart\, AL 34994 US
SUMMARY:CHCC Gallery | 35th Annual All Florida Juried Art Show
END:VEVENT
END:VCALENDAR
