BEGIN:VCALENDAR
VERSION:2.0
PRODID:-//www.martinarts.org//NONSGML kigkonsult.se iCalcreator 2.30.10//
CALSCALE:GREGORIAN
METHOD:PUBLISH
UID:b7ff314d-e855-4ac2-8b6f-62bec5fb2d9c
X-WR-CALDESC:“An Evening of Jazz with pianist Tom Servinsky”\n\n• Admission
 : $5 for non-members\; free for current MartinArts members (based on membe
 rship level)\n• Open to the public.\n• Advanced registration closes 1 hour
  prior to performance.\n
X-WR-RELCALID:d0b83237e2fdc6326c1c5f400bf4ba1c
X-WR-TIMEZONE:America/New_York
BEGIN:VTIMEZONE
TZID:America/New_York
BEGIN:STANDARD
TZNAME:EST
DTSTART:20251102T020000
TZOFFSETFROM:-0400
TZOFFSETTO:-0500
RDATE:20261101T020000
END:STANDARD
BEGIN:DAYLIGHT
TZNAME:EDT
DTSTART:20250309T020000
TZOFFSETFROM:-0500
TZOFFSETTO:-0400
RDATE:20260308T020000
RDATE:20270314T020000
END:DAYLIGHT
END:VTIMEZONE
BEGIN:VEVENT
UID:4177fc2d-582e-4038-babf-f5fa4c6caa52
DTSTAMP:20260424T142210Z
DESCRIPTION:“An Evening of Jazz with pianist Tom Servinsky”\n\n• Admission:
  $5 for non-members\; free for current MartinArts members (based on member
 ship level)\n• Open to the public.\n• Advanced registration closes 1 hour 
 prior to performance.\n
DTSTART;TZID=America/New_York:20260113T173000
DTEND;TZID=America/New_York:20260113T183000
LOCATION:Court House Cultural Center\, 80 SE Ocean Blvd.\, Stuart\, FL 3499
 4 US
SUMMARY:Sunset Concerts at the Gallery
END:VEVENT
END:VCALENDAR
