BEGIN:VCALENDAR
VERSION:2.0
PRODID:-//www.martinarts.org//NONSGML kigkonsult.se iCalcreator 2.30.10//
CALSCALE:GREGORIAN
METHOD:PUBLISH
UID:4e9dee1e-9628-4472-ba91-0054552fda0d
X-WR-CALDESC:Presenting an evening of hilarious comedy with Steve Solomon\,
  the author and star of one of the longest running one-man comedies in Bro
 adway history: My Mother’s Italian\, My Father’s Jewish & I’m in Therapy. 
 This will be a night of pure enjoyment as Steve\, using his gift for actin
 g\, dialects and voices\, brings to life twenty of more oddball people in 
 hysterical situations that we all relate to. From family to friends…from T
 SA officers to Steve’s doctors…from millennials to grandkids…from Brooklyn
  to Broadway! You’ll recognize these characters from your own life and lea
 ve the theater wiping tears of laughter from your eyes. Don’t miss this sh
 ow.\n\nhttps://www.lyrictheatre.com/show/11632-steve-solomons-from-brookly
 n-to-broadway-the-therapy-continues
X-WR-RELCALID:c891186dd95cffc98d430eb7f10541e7
X-WR-TIMEZONE:America/New_York
BEGIN:VTIMEZONE
TZID:America/New_York
BEGIN:STANDARD
TZNAME:EST
DTSTART:20251102T020000
TZOFFSETFROM:-0400
TZOFFSETTO:-0500
RDATE:20261101T020000
END:STANDARD
BEGIN:DAYLIGHT
TZNAME:EDT
DTSTART:20250309T020000
TZOFFSETFROM:-0500
TZOFFSETTO:-0400
RDATE:20260308T020000
RDATE:20270314T020000
END:DAYLIGHT
END:VTIMEZONE
BEGIN:VEVENT
UID:ea89a02c-4702-4d1c-94e8-342f75b67fb5
DTSTAMP:20260424T142517Z
DESCRIPTION:Presenting an evening of hilarious comedy with Steve Solomon\, 
 the author and star of one of the longest running one-man comedies in Broa
 dway history: My Mother’s Italian\, My Father’s Jewish & I’m in Therapy. T
 his will be a night of pure enjoyment as Steve\, using his gift for acting
 \, dialects and voices\, brings to life twenty of more oddball people in h
 ysterical situations that we all relate to. From family to friends…from TS
 A officers to Steve’s doctors…from millennials to grandkids…from Brooklyn 
 to Broadway! You’ll recognize these characters from your own life and leav
 e the theater wiping tears of laughter from your eyes. Don’t miss this sho
 w.\n\nhttps://www.lyrictheatre.com/show/11632-steve-solomons-from-brooklyn
 -to-broadway-the-therapy-continues
DTSTART;TZID=America/New_York:20260114T190000
DTEND;TZID=America/New_York:20260114T203000
LOCATION:59 SW Flagler Ave\, Stuart\, FL 34994 US
SUMMARY:Steve Solomon’s From Brooklyn to Broadway ... The Therapy Continues
END:VEVENT
END:VCALENDAR
