BEGIN:VCALENDAR
VERSION:2.0
PRODID:-//www.martinarts.org//NONSGML kigkonsult.se iCalcreator 2.30.10//
CALSCALE:GREGORIAN
METHOD:PUBLISH
UID:02e9e2b5-dba7-4724-bc25-2e35c990617b
X-WR-CALDESC:Guitarist/composer Leo Kottke is one of the foremost finger-st
 yle guitar players in the world and he has the degree to prove it. In 2008
 \, the University of Wisconsin-Milwaukee’s Peck School of the Arts awarded
  Kottke a doctorate in performance music for redefining the potential of t
 he guitar. “Kottke is an American musical icon who has extended the tradit
 ion established by musical greats such as Chet Atkins and Merle Travis and
  John Fahey\,” said Scott Emmons\, dean of the school. “Over the past 35 y
 ears\, no single guitarist has influenced an emerging performance style to
  the extent that Kottke has influenced finger-style guitar.” Leo Kottke wa
 s born in Georgia\, but his family moved around and he was influenced by f
 olk and delta blues music\, especially the work of Mississippi John Hurt. 
 As a boy\, he played the violin and trombone\, but abandoned both to the g
 uitar by the age of 11.\n\nTicket link: https://www.lyrictheatre.com/show/
 11721-leo-kottke
X-WR-RELCALID:a42b1ae595105292579772c4a25acad7
X-WR-TIMEZONE:America/New_York
BEGIN:VTIMEZONE
TZID:America/New_York
BEGIN:STANDARD
TZNAME:EST
DTSTART:20251102T020000
TZOFFSETFROM:-0400
TZOFFSETTO:-0500
RDATE:20261101T020000
END:STANDARD
BEGIN:DAYLIGHT
TZNAME:EDT
DTSTART:20250309T020000
TZOFFSETFROM:-0500
TZOFFSETTO:-0400
RDATE:20260308T020000
RDATE:20270314T020000
END:DAYLIGHT
END:VTIMEZONE
BEGIN:VEVENT
UID:ec7e8ccc-cef9-4037-8072-f5a2cb0a34dd
DTSTAMP:20260424T153956Z
DESCRIPTION:Guitarist/composer Leo Kottke is one of the foremost finger-sty
 le guitar players in the world and he has the degree to prove it. In 2008\
 , the University of Wisconsin-Milwaukee’s Peck School of the Arts awarded 
 Kottke a doctorate in performance music for redefining the potential of th
 e guitar. “Kottke is an American musical icon who has extended the traditi
 on established by musical greats such as Chet Atkins and Merle Travis and 
 John Fahey\,” said Scott Emmons\, dean of the school. “Over the past 35 ye
 ars\, no single guitarist has influenced an emerging performance style to 
 the extent that Kottke has influenced finger-style guitar.” Leo Kottke was
  born in Georgia\, but his family moved around and he was influenced by fo
 lk and delta blues music\, especially the work of Mississippi John Hurt. A
 s a boy\, he played the violin and trombone\, but abandoned both to the gu
 itar by the age of 11.\n\nTicket link: https://www.lyrictheatre.com/show/1
 1721-leo-kottke
DTSTART;TZID=America/New_York:20260115T190000
DTEND;TZID=America/New_York:20260115T203000
LOCATION:59 SW Flagler Ave\, Stuart\, FL 34994 US
SUMMARY:Leo Kottke
END:VEVENT
END:VCALENDAR
