BEGIN:VCALENDAR
VERSION:2.0
PRODID:-//www.martinarts.org//NONSGML kigkonsult.se iCalcreator 2.30.10//
CALSCALE:GREGORIAN
METHOD:PUBLISH
UID:c78c43b6-26e9-417d-b188-cb5b669618bc
X-WR-CALDESC:Selwyn Birchwood is an award-winning Florida bluesman whose un
 ique blend of styles is redefining the modern blues sound. With searing gu
 itar work\, soulful vocals\, and an unmistakable stage presence\, Birchwoo
 d carves out a sound he dubs “Electric Swamp Funkin’ Blues\,” a mix of blu
 es\, psychedelic rock\, Southern soul\, and funk. Critics from Rolling Sto
 ne to Guitar World praise his fresh take on the genre\, noting both his mu
 sical originality and his magnetic\, high-energy performances. His latest 
 album\, Exorcist\, is Birchwood’s most daring and expansive to date. Featu
 ring 13 original tracks all written and arranged by him\, the record cover
 s a wide emotional and musical spectrum\, from hard-hitting autobiographic
 al songs to sharp social commentary and eerie storytelling. Produced by Gr
 ammy-winner Tom Hambridge\, the album is hailed for its fearless creativit
 y and deeply rooted authenticity\, earning acclaim for blending tradition 
 with innovation.\n\nhttps://www.lyrictheatre.com/show/11560-selwyn-birchwo
 od
X-WR-RELCALID:d7ce23e5cda6c4af3494736cd4514bab
X-WR-TIMEZONE:America/New_York
BEGIN:VTIMEZONE
TZID:America/New_York
BEGIN:STANDARD
TZNAME:EST
DTSTART:20251102T020000
TZOFFSETFROM:-0400
TZOFFSETTO:-0500
RDATE:20261101T020000
END:STANDARD
BEGIN:DAYLIGHT
TZNAME:EDT
DTSTART:20250309T020000
TZOFFSETFROM:-0500
TZOFFSETTO:-0400
RDATE:20260308T020000
RDATE:20270314T020000
END:DAYLIGHT
END:VTIMEZONE
BEGIN:VEVENT
UID:af33f3fd-96fc-4189-ab79-0a4752d96941
DTSTAMP:20260424T125827Z
DESCRIPTION:Selwyn Birchwood is an award-winning Florida bluesman whose uni
 que blend of styles is redefining the modern blues sound. With searing gui
 tar work\, soulful vocals\, and an unmistakable stage presence\, Birchwood
  carves out a sound he dubs “Electric Swamp Funkin’ Blues\,” a mix of blue
 s\, psychedelic rock\, Southern soul\, and funk. Critics from Rolling Ston
 e to Guitar World praise his fresh take on the genre\, noting both his mus
 ical originality and his magnetic\, high-energy performances. His latest a
 lbum\, Exorcist\, is Birchwood’s most daring and expansive to date. Featur
 ing 13 original tracks all written and arranged by him\, the record covers
  a wide emotional and musical spectrum\, from hard-hitting autobiographica
 l songs to sharp social commentary and eerie storytelling. Produced by Gra
 mmy-winner Tom Hambridge\, the album is hailed for its fearless creativity
  and deeply rooted authenticity\, earning acclaim for blending tradition w
 ith innovation.\n\nhttps://www.lyrictheatre.com/show/11560-selwyn-birchwoo
 d
DTSTART;TZID=America/New_York:20260116T190000
DTEND;TZID=America/New_York:20260116T203000
LOCATION:59 SW Flagler Ave\, Stuart\, FL 34994 US
SUMMARY:Selwyn Birchwood
END:VEVENT
END:VCALENDAR
