BEGIN:VCALENDAR
VERSION:2.0
PRODID:-//www.martinarts.org//NONSGML kigkonsult.se iCalcreator 2.30.10//
CALSCALE:GREGORIAN
METHOD:PUBLISH
UID:dc20f5d8-e020-4666-a7a0-04d681543b1e
X-WR-CALDESC:Sat\, Jan 17\, 11 a.m.-12:30 p.m. Free\, Blake Library\nFirst 
 in a three-part series: Music and Nation\, featuring ACO musicians perform
 ing a string quartet and a string quintet.\nOther concerts are February 14
  and March 14
X-WR-RELCALID:2f28613b882c2a4a8640365a4b2ca1de
X-WR-TIMEZONE:America/New_York
BEGIN:VTIMEZONE
TZID:America/New_York
BEGIN:STANDARD
TZNAME:EST
DTSTART:20251102T020000
TZOFFSETFROM:-0400
TZOFFSETTO:-0500
RDATE:20261101T020000
END:STANDARD
BEGIN:DAYLIGHT
TZNAME:EDT
DTSTART:20250309T020000
TZOFFSETFROM:-0500
TZOFFSETTO:-0400
RDATE:20260308T020000
RDATE:20270314T020000
END:DAYLIGHT
END:VTIMEZONE
BEGIN:VEVENT
UID:b4369699-6e9a-449a-8045-9a6ea39f0a9a
DTSTAMP:20260424T142243Z
DESCRIPTION:Sat\, Jan 17\, 11 a.m.-12:30 p.m. Free\, Blake Library\nFirst i
 n a three-part series: Music and Nation\, featuring ACO musicians performi
 ng a string quartet and a string quintet.\nOther concerts are February 14 
 and March 14
DTSTART;TZID=America/New_York:20260117T110000
DTEND;TZID=America/New_York:20260117T123000
LOCATION:Blake Library
SUMMARY:Atlantic Classical Orchestra Chamber Music Concert Series
END:VEVENT
END:VCALENDAR
