BEGIN:VCALENDAR
VERSION:2.0
PRODID:-//www.martinarts.org//NONSGML kigkonsult.se iCalcreator 2.30.10//
CALSCALE:GREGORIAN
METHOD:PUBLISH
UID:9b642b8f-ea3c-4f34-bb26-02dd8fd312d4
X-WR-CALDESC:Jesse Cook never planned to become a musician. “If you had ask
 ed me at age 22\, I would have said that I would never\, never make music 
 for the public\,” he said. “I would have told you that the public is much 
 too fickle\; they may love you one minute and forget you the next. Well\, 
 it turns out I did the thing I said I’d never do\, and somehow\, it’s work
 ed out.” Indeed\, it has. The Canadian guitarist has received Acoustic Gui
 tar magazine’s coveted Player’s Choice Silver Award\, 11 Juno Award nomina
 tions and one win\, a Gemini Award and\, most impressively\, 10 platinum a
 nd gold studio albums. Since launching his career with 1995’s Tempest\, he
  has blazed an incredible trail as a guitar virtuoso\, composer\, producer
 \, arranger\, and\, more recently\, filmmaker and cultural ambassador. The
  seeds of the career\, he never was going to have\, were planted while he 
 was still in school. As a child\, he was introduced to flamenco while spen
 ding summers at his father’s home in the south of France.\n\nhttps://www.l
 yrictheatre.com/show/11562-jesse-cook
X-WR-RELCALID:9c1f5aae2bee925b8df9bebd6c4abf60
X-WR-TIMEZONE:America/New_York
BEGIN:VTIMEZONE
TZID:America/New_York
BEGIN:STANDARD
TZNAME:EST
DTSTART:20251102T020000
TZOFFSETFROM:-0400
TZOFFSETTO:-0500
RDATE:20261101T020000
END:STANDARD
BEGIN:DAYLIGHT
TZNAME:EDT
DTSTART:20250309T020000
TZOFFSETFROM:-0500
TZOFFSETTO:-0400
RDATE:20260308T020000
RDATE:20270314T020000
END:DAYLIGHT
END:VTIMEZONE
BEGIN:VEVENT
UID:64d4aa0d-15e6-4462-b2e9-9a5e62057eff
DTSTAMP:20260424T125743Z
DESCRIPTION:Jesse Cook never planned to become a musician. “If you had aske
 d me at age 22\, I would have said that I would never\, never make music f
 or the public\,” he said. “I would have told you that the public is much t
 oo fickle\; they may love you one minute and forget you the next. Well\, i
 t turns out I did the thing I said I’d never do\, and somehow\, it’s worke
 d out.” Indeed\, it has. The Canadian guitarist has received Acoustic Guit
 ar magazine’s coveted Player’s Choice Silver Award\, 11 Juno Award nominat
 ions and one win\, a Gemini Award and\, most impressively\, 10 platinum an
 d gold studio albums. Since launching his career with 1995’s Tempest\, he 
 has blazed an incredible trail as a guitar virtuoso\, composer\, producer\
 , arranger\, and\, more recently\, filmmaker and cultural ambassador. The 
 seeds of the career\, he never was going to have\, were planted while he w
 as still in school. As a child\, he was introduced to flamenco while spend
 ing summers at his father’s home in the south of France.\n\nhttps://www.ly
 rictheatre.com/show/11562-jesse-cook
DTSTART;TZID=America/New_York:20260117T190000
DTEND;TZID=America/New_York:20260117T203000
LOCATION:59 SW Flagler Ave\, Stuart\, FL 34994 US
SUMMARY:Jesse Cook
END:VEVENT
END:VCALENDAR
