BEGIN:VCALENDAR
VERSION:2.0
PRODID:-//www.martinarts.org//NONSGML kigkonsult.se iCalcreator 2.30.10//
CALSCALE:GREGORIAN
METHOD:PUBLISH
UID:08a20362-5386-492f-b2e0-281d2c7861cf
X-WR-CALDESC:Concert by Leonela Alejandro of Puerto Rico\, winner of the 20
 24 Guitar Federation of America International Solo Guitar Competition.
X-WR-RELCALID:f7d8b3a5516b362dd38945a9ca44ae37
X-WR-TIMEZONE:America/New_York
BEGIN:VTIMEZONE
TZID:America/New_York
BEGIN:STANDARD
TZNAME:EST
DTSTART:20251102T020000
TZOFFSETFROM:-0400
TZOFFSETTO:-0500
RDATE:20261101T020000
END:STANDARD
BEGIN:DAYLIGHT
TZNAME:EDT
DTSTART:20250309T020000
TZOFFSETFROM:-0500
TZOFFSETTO:-0400
RDATE:20260308T020000
RDATE:20270314T020000
END:DAYLIGHT
END:VTIMEZONE
BEGIN:VEVENT
UID:7e41fa27-c245-4744-895e-b746efb56348
DTSTAMP:20260424T130646Z
DESCRIPTION:Concert by Leonela Alejandro of Puerto Rico\, winner of the 202
 4 Guitar Federation of America International Solo Guitar Competition.
DTSTART;TZID=America/New_York:20260118T150000
DTEND;TZID=America/New_York:20260118T163000
LOCATION:Blake Library
SUMMARY:Treasure Coast Classical Guitar Society presents Leonela Alejandro
END:VEVENT
END:VCALENDAR
