BEGIN:VCALENDAR
VERSION:2.0
PRODID:-//www.martinarts.org//NONSGML kigkonsult.se iCalcreator 2.30.10//
CALSCALE:GREGORIAN
METHOD:PUBLISH
UID:2361c239-9bf4-4bff-9349-a0e693c4b271
X-WR-CALDESC:Their music is the soundtrack of so many lives. James Taylor\,
  Carly Simon\, and Carole King had so many hit songs that it’s hard to kee
 p track of them all. James Taylor is a six-time Grammy winner\, Rock & Rol
 l Hall-of-Famer Carly Simon had 13 Top 40 hits\, and Carole King wrote or 
 co-wrote 118 Billboard Hot 100 hits. Their personal and professional lives
  intertwine with songs like “Mockingbird'\, “You’re So Vain'\, “Anticipati
 on'\, and “You’ve Got a Friend'\, and their music and lives are celebrated
  by three performers with their own impressive resumes. Lisa Sherman spent
  11 years on and off Broadway as a singer\, actress\, and dancer\, and sha
 red the stage with the Radio City Rockettes for four years. She has perfor
 med and headlined at the Apollo Theatre\, The Algonquin\, The Vogel\, and 
 Hamilton Theatres and soloed with the Asheville Symphony Orchestra in a tr
 ibute to Paul McCartney.\n\nTicket link: https://www.lyrictheatre.com/show
 /11566-the-three-american-troubadours-celebrating-james-taylor-carly-simon
 -and-carole-king
X-WR-RELCALID:12e572874a7b5725883dffe0bf5b7e6f
X-WR-TIMEZONE:America/New_York
BEGIN:VTIMEZONE
TZID:America/New_York
BEGIN:STANDARD
TZNAME:EST
DTSTART:20251102T020000
TZOFFSETFROM:-0400
TZOFFSETTO:-0500
RDATE:20261101T020000
END:STANDARD
BEGIN:DAYLIGHT
TZNAME:EDT
DTSTART:20250309T020000
TZOFFSETFROM:-0500
TZOFFSETTO:-0400
RDATE:20260308T020000
RDATE:20270314T020000
END:DAYLIGHT
END:VTIMEZONE
BEGIN:VEVENT
UID:b1480143-538d-4686-ad5f-942009ad4013
DTSTAMP:20260424T132405Z
DESCRIPTION:Their music is the soundtrack of so many lives. James Taylor\, 
 Carly Simon\, and Carole King had so many hit songs that it’s hard to keep
  track of them all. James Taylor is a six-time Grammy winner\, Rock & Roll
  Hall-of-Famer Carly Simon had 13 Top 40 hits\, and Carole King wrote or c
 o-wrote 118 Billboard Hot 100 hits. Their personal and professional lives 
 intertwine with songs like “Mockingbird'\, “You’re So Vain'\, “Anticipatio
 n'\, and “You’ve Got a Friend'\, and their music and lives are celebrated 
 by three performers with their own impressive resumes. Lisa Sherman spent 
 11 years on and off Broadway as a singer\, actress\, and dancer\, and shar
 ed the stage with the Radio City Rockettes for four years. She has perform
 ed and headlined at the Apollo Theatre\, The Algonquin\, The Vogel\, and H
 amilton Theatres and soloed with the Asheville Symphony Orchestra in a tri
 bute to Paul McCartney.\n\nTicket link: https://www.lyrictheatre.com/show/
 11566-the-three-american-troubadours-celebrating-james-taylor-carly-simon-
 and-carole-king
DTSTART;TZID=America/New_York:20260120T190000
DTEND;TZID=America/New_York:20260120T203000
LOCATION:59 SW Flagler Ave\, Stuart\, FL 34994 US
SUMMARY:The Three American Troubadours: Celebrating James Taylor\, Carly Si
 mon\, and Carole King
END:VEVENT
END:VCALENDAR
