BEGIN:VCALENDAR
VERSION:2.0
PRODID:-//www.martinarts.org//NONSGML kigkonsult.se iCalcreator 2.30.10//
CALSCALE:GREGORIAN
METHOD:PUBLISH
UID:cb58116c-53f3-49d8-a48d-ae42bcfd9356
X-WR-CALDESC:
X-WR-RELCALID:45fa7124387262d755997bf00a9b253a
X-WR-TIMEZONE:America/New_York
BEGIN:VTIMEZONE
TZID:America/New_York
BEGIN:STANDARD
TZNAME:EST
DTSTART:20251102T020000
TZOFFSETFROM:-0400
TZOFFSETTO:-0500
RDATE:20261101T020000
END:STANDARD
BEGIN:DAYLIGHT
TZNAME:EDT
DTSTART:20250309T020000
TZOFFSETFROM:-0500
TZOFFSETTO:-0400
RDATE:20260308T020000
RDATE:20270314T020000
END:DAYLIGHT
END:VTIMEZONE
BEGIN:VEVENT
UID:d61fc666-44c7-4151-a7cb-ca2ebc1a818a
DTSTAMP:20260424T141928Z
DESCRIPTION:
DTSTART;TZID=America/New_York:20260120T110000
DTEND;TZID=America/New_York:20260120T120000
LOCATION:80 SE ocean blvd\, stuart\, FL 34994 US
SUMMARY:Volunteer Info Session
END:VEVENT
END:VCALENDAR
