BEGIN:VCALENDAR
VERSION:2.0
PRODID:-//www.martinarts.org//NONSGML kigkonsult.se iCalcreator 2.30.10//
CALSCALE:GREGORIAN
METHOD:PUBLISH
UID:f787e51c-f68d-48a9-9ef1-e384bb3edc20
X-WR-CALDESC:The Band was one of the most important roots rock groups of th
 e 1960s. The influential group\, which included Levon Helm\, Rick Danko\, 
 Garth Hudson\, Richard Manuel and Robbie Robertson\, began in Canada and t
 hen migrated to the U.S. It was the subject of a Martin Scorsese documenta
 ry The Last Waltz. The group was inducted into the Rock and Roll Hall of F
 ame in 1994. In 2004\, Rolling Stone ranked The Band 50 on the list of 100
  greatest artists and the song “The Weight” was ranked 41st on the magazin
 e’s list of the 500 greatest songs. It is a storied history. Levon Helm di
 ed in 2012 after a lengthy battle with throat cancer that kept him from pe
 rforming for many years. In 2013\, in the Woodstock barn Levon Helm loved\
 , Jim Weider and Randy Ciarlante\, both former members of The Band\, perfo
 rmed “Songs of the Band” with founder Garth Hudson\, Jimmy Vivino and Byro
 n Isaacs. The experience inspired Weider\, Ciarlante and Isaacs to carry o
 n The Band’s legacy and they began performing fan favorites.\n\nTicket lin
 k: https://www.lyrictheatre.com/show/11568-the-weight-band-featuring-membe
 rs-of-the-band-and-the-levon-helm-band
X-WR-RELCALID:d6cb984cb81dd3655afaf630b7e75ff8
X-WR-TIMEZONE:America/New_York
BEGIN:VTIMEZONE
TZID:America/New_York
BEGIN:STANDARD
TZNAME:EST
DTSTART:20251102T020000
TZOFFSETFROM:-0400
TZOFFSETTO:-0500
RDATE:20261101T020000
END:STANDARD
BEGIN:DAYLIGHT
TZNAME:EDT
DTSTART:20250309T020000
TZOFFSETFROM:-0500
TZOFFSETTO:-0400
RDATE:20260308T020000
RDATE:20270314T020000
END:DAYLIGHT
END:VTIMEZONE
BEGIN:VEVENT
UID:878567e2-1b3d-4e7e-9962-22aa9fef018e
DTSTAMP:20260424T144047Z
DESCRIPTION:The Band was one of the most important roots rock groups of the
  1960s. The influential group\, which included Levon Helm\, Rick Danko\, G
 arth Hudson\, Richard Manuel and Robbie Robertson\, began in Canada and th
 en migrated to the U.S. It was the subject of a Martin Scorsese documentar
 y The Last Waltz. The group was inducted into the Rock and Roll Hall of Fa
 me in 1994. In 2004\, Rolling Stone ranked The Band 50 on the list of 100 
 greatest artists and the song “The Weight” was ranked 41st on the magazine
 ’s list of the 500 greatest songs. It is a storied history. Levon Helm die
 d in 2012 after a lengthy battle with throat cancer that kept him from per
 forming for many years. In 2013\, in the Woodstock barn Levon Helm loved\,
  Jim Weider and Randy Ciarlante\, both former members of The Band\, perfor
 med “Songs of the Band” with founder Garth Hudson\, Jimmy Vivino and Byron
  Isaacs. The experience inspired Weider\, Ciarlante and Isaacs to carry on
  The Band’s legacy and they began performing fan favorites.\n\nTicket link
 : https://www.lyrictheatre.com/show/11568-the-weight-band-featuring-member
 s-of-the-band-and-the-levon-helm-band
DTSTART;TZID=America/New_York:20260122T190000
DTEND;TZID=America/New_York:20260122T203000
LOCATION:59 SW Flagler Ave\, Stuart\, FL 34994 US
SUMMARY:The Weight Band – Featuring members of The Band and the Levon Helm 
 Band
END:VEVENT
END:VCALENDAR
