BEGIN:VCALENDAR
VERSION:2.0
PRODID:-//www.martinarts.org//NONSGML kigkonsult.se iCalcreator 2.30.10//
CALSCALE:GREGORIAN
METHOD:PUBLISH
UID:99344b55-cdc9-4d8d-b6c9-2e8a091b2a3e
X-WR-CALDESC:Weill- Suite from 'Three Penny Opera' / Saint-Saëns- Piano Con
 certo No. 5\, op. 103 (“Egyptian) featuring Tao Lin\, piano / Gershwin/arr
 . Bennett- Porgy and Bess: Symphonic Picture\n\nTicket Link: https://atlan
 ticclassicalorchestra.my.salesforce-sites.com/ticket/#/events/a0SPM000001k
 g8X2AQ
X-WR-RELCALID:455a2d1c42883d38746704a40617c514
X-WR-TIMEZONE:America/New_York
BEGIN:VTIMEZONE
TZID:America/New_York
BEGIN:STANDARD
TZNAME:EST
DTSTART:20251102T020000
TZOFFSETFROM:-0400
TZOFFSETTO:-0500
RDATE:20261101T020000
END:STANDARD
BEGIN:DAYLIGHT
TZNAME:EDT
DTSTART:20250309T020000
TZOFFSETFROM:-0500
TZOFFSETTO:-0400
RDATE:20260308T020000
RDATE:20270314T020000
END:DAYLIGHT
END:VTIMEZONE
BEGIN:VEVENT
UID:6471c083-1099-4c7b-bb54-abf835df0aa8
DTSTAMP:20260424T125656Z
DESCRIPTION:Weill- Suite from 'Three Penny Opera' / Saint-Saëns- Piano Conc
 erto No. 5\, op. 103 (“Egyptian) featuring Tao Lin\, piano / Gershwin/arr.
  Bennett- Porgy and Bess: Symphonic Picture\n\nTicket Link: https://atlant
 icclassicalorchestra.my.salesforce-sites.com/ticket/#/events/a0SPM000001kg
 8X2AQ
DTSTART;TZID=America/New_York:20260123T193000
DTEND;TZID=America/New_York:20260123T210000
LOCATION:The Lyric Theatre
SUMMARY:Masterwork Series I
END:VEVENT
END:VCALENDAR
