BEGIN:VCALENDAR
VERSION:2.0
PRODID:-//www.martinarts.org//NONSGML kigkonsult.se iCalcreator 2.30.10//
CALSCALE:GREGORIAN
METHOD:PUBLISH
UID:745513a9-d38b-410f-92cd-e0d9181fca8a
X-WR-CALDESC:Downtown Jensen Beach will be the place where artists and art 
 \nenthusiasts come together this coming weekend January 24 & 25\, 2026 for
  the 20th Annual \nJensen Beach Art & Craft Show. \nOne of the most loved 
 and anticipated community events\, the Jensen Beach Art & Craft Show\nis b
 est known for its’ authenticity\, quaint historic downtown venue\, and pre
 senting a unique \nblend of fine art\, handcrafted goods\, live music\, an
 d the delicious food offered by downtown \neateries. \nThe Jensen Beach Ar
 t & Craft Show features original works of affordable art from 100 artists 
 \nand artisans and draws visitors from throughout the Treasure Coast and b
 eyond. \nAdmission is free and there is plenty of nearby parking. The show
  hours are 10am to 5pm\, \nSaturday and 10am to 4pm Sunday. \n \nThe Jense
 n Beach Art & Craft Show is presented and produced by the Jensen Beach \nC
 hamber of Commerce. Artists who participated in the show from its beginnin
 g were quoted in \nthe Sunshine Artist Magazine praising the Chamber of Co
 mmerce for the fine job producing \nand jurying the popular art show.
X-WR-RELCALID:97c03fba9429a05d029d3f5621d17825
X-WR-TIMEZONE:America/New_York
BEGIN:VTIMEZONE
TZID:America/New_York
BEGIN:STANDARD
TZNAME:EST
DTSTART:20251102T020000
TZOFFSETFROM:-0400
TZOFFSETTO:-0500
RDATE:20261101T020000
END:STANDARD
BEGIN:DAYLIGHT
TZNAME:EDT
DTSTART:20250309T020000
TZOFFSETFROM:-0500
TZOFFSETTO:-0400
RDATE:20260308T020000
RDATE:20270314T020000
END:DAYLIGHT
END:VTIMEZONE
BEGIN:VEVENT
UID:60ee8cdc-c5ba-47fd-8442-2aaf90ebdcb6
DTSTAMP:20260424T130043Z
DESCRIPTION:Downtown Jensen Beach will be the place where artists and art 
 \nenthusiasts come together this coming weekend January 24 & 25\, 2026 for
  the 20th Annual \nJensen Beach Art & Craft Show. \nOne of the most loved 
 and anticipated community events\, the Jensen Beach Art & Craft Show\nis b
 est known for its’ authenticity\, quaint historic downtown venue\, and pre
 senting a unique \nblend of fine art\, handcrafted goods\, live music\, an
 d the delicious food offered by downtown \neateries. \nThe Jensen Beach Ar
 t & Craft Show features original works of affordable art from 100 artists 
 \nand artisans and draws visitors from throughout the Treasure Coast and b
 eyond. \nAdmission is free and there is plenty of nearby parking. The show
  hours are 10am to 5pm\, \nSaturday and 10am to 4pm Sunday. \n \nThe Jense
 n Beach Art & Craft Show is presented and produced by the Jensen Beach \nC
 hamber of Commerce. Artists who participated in the show from its beginnin
 g were quoted in \nthe Sunshine Artist Magazine praising the Chamber of Co
 mmerce for the fine job producing \nand jurying the popular art show.
DTSTART;TZID=America/New_York:20260124T100000
DTEND;TZID=America/New_York:20260124T170000
LOCATION:Downtown Jensen Beach
SUMMARY:20th Annual Jensen Beach Art & Craft Show
END:VEVENT
END:VCALENDAR
