BEGIN:VCALENDAR
VERSION:2.0
PRODID:-//www.martinarts.org//NONSGML kigkonsult.se iCalcreator 2.30.10//
CALSCALE:GREGORIAN
METHOD:PUBLISH
UID:35a06e20-9548-4d61-b088-9afc0b7e04a5
X-WR-CALDESC:Billie & Blue Eyes is a heartfelt tribute to two iconic voices
  of American music - Billie Holiday and Frank Sinatra - brought to life by
  award-winning jazz talents Catherine Russell and John Pizzarelli. With Ca
 therine’s radiant vocals and John’s smooth guitar and easygoing charm\, th
 ey’ll take you on a journey through timeless classics from two unforgettab
 le catalogs. It’s an afternoon of pure jazz bliss\, served up with style a
 nd soul. Singer\, guitarist\, and vocalist John Pizzarelli has jazz in his
  blood. His father\, Bucky Pizzarelli\, was a guitarist on many Frank Sina
 tra recordings and John has spent his four-decades-long career reminding a
 udiences of the genius of Sinatra and other greats\, including his hero\, 
 Nat King Cole. A recent album with the John Pizzarelli Trio is For Centenn
 ial Reasons: 100 Year Salute to Nat King Cole.\n\nTicket link: https://www
 .lyrictheatre.com/show/11570-john-pizzarelli-catherine-russell-present-bil
 lie-blue-eyes
X-WR-RELCALID:43e489ffd77f9edfeb82e933b98d1e98
X-WR-TIMEZONE:America/New_York
BEGIN:VTIMEZONE
TZID:America/New_York
BEGIN:STANDARD
TZNAME:EST
DTSTART:20251102T020000
TZOFFSETFROM:-0400
TZOFFSETTO:-0500
RDATE:20261101T020000
END:STANDARD
BEGIN:DAYLIGHT
TZNAME:EDT
DTSTART:20250309T020000
TZOFFSETFROM:-0500
TZOFFSETTO:-0400
RDATE:20260308T020000
RDATE:20270314T020000
END:DAYLIGHT
END:VTIMEZONE
BEGIN:VEVENT
UID:e56a384d-2cbf-49df-ba28-0856b5a02338
DTSTAMP:20260424T130247Z
DESCRIPTION:Billie & Blue Eyes is a heartfelt tribute to two iconic voices 
 of American music - Billie Holiday and Frank Sinatra - brought to life by 
 award-winning jazz talents Catherine Russell and John Pizzarelli. With Cat
 herine’s radiant vocals and John’s smooth guitar and easygoing charm\, the
 y’ll take you on a journey through timeless classics from two unforgettabl
 e catalogs. It’s an afternoon of pure jazz bliss\, served up with style an
 d soul. Singer\, guitarist\, and vocalist John Pizzarelli has jazz in his 
 blood. His father\, Bucky Pizzarelli\, was a guitarist on many Frank Sinat
 ra recordings and John has spent his four-decades-long career reminding au
 diences of the genius of Sinatra and other greats\, including his hero\, N
 at King Cole. A recent album with the John Pizzarelli Trio is For Centenni
 al Reasons: 100 Year Salute to Nat King Cole.\n\nTicket link: https://www.
 lyrictheatre.com/show/11570-john-pizzarelli-catherine-russell-present-bill
 ie-blue-eyes
DTSTART;TZID=America/New_York:20260124T190000
DTEND;TZID=America/New_York:20260124T203000
LOCATION:59 SW Flagler Ave\, Stuart\, FL 34994 US
SUMMARY:John Pizzarelli & Catherine Russell Present Billie & Blue Eyes
END:VEVENT
END:VCALENDAR
