BEGIN:VCALENDAR
VERSION:2.0
PRODID:-//www.martinarts.org//NONSGML kigkonsult.se iCalcreator 2.30.10//
CALSCALE:GREGORIAN
METHOD:PUBLISH
UID:9d37192f-ed54-4a02-a38f-a1a6b4d287fe
X-WR-CALDESC:
X-WR-RELCALID:77315b41ec760805c3459fb50a4aed6c
X-WR-TIMEZONE:America/New_York
BEGIN:VTIMEZONE
TZID:America/New_York
BEGIN:STANDARD
TZNAME:EST
DTSTART:20251102T020000
TZOFFSETFROM:-0400
TZOFFSETTO:-0500
RDATE:20261101T020000
END:STANDARD
BEGIN:DAYLIGHT
TZNAME:EDT
DTSTART:20250309T020000
TZOFFSETFROM:-0500
TZOFFSETTO:-0400
RDATE:20260308T020000
RDATE:20270314T020000
END:DAYLIGHT
END:VTIMEZONE
BEGIN:VEVENT
UID:3a0f6d42-b940-4983-88d5-d574628f4653
DTSTAMP:20260424T130033Z
DESCRIPTION:
DTSTART;TZID=America/New_York:20260125T140000
DTEND;TZID=America/New_York:20260125T170000
LOCATION:Memorial Park\, Stuart
SUMMARY:Sunday Jazz in the Park
END:VEVENT
END:VCALENDAR
