BEGIN:VCALENDAR
VERSION:2.0
PRODID:-//www.martinarts.org//NONSGML kigkonsult.se iCalcreator 2.30.10//
CALSCALE:GREGORIAN
METHOD:PUBLISH
UID:50c30cf7-aa93-4a87-9660-8e47966003b1
X-WR-CALDESC:It all began with four friends in high school. More than two d
 ecades ago\, brothers Andrew and Mike Tierney and their friends\, Phil Bur
 ton and Toby Atlas\, formed an Australian boy band\, 4Trax. Distinctive ha
 rmonies caught the attention of Sony Music Australia’s CEO and after they 
 performed an acappella version of “People Get Ready\,” they were signed to
  a contract on the spot. They changed the band’s name to Human Nature and 
 the rest\, as they say\, is history. Since signing with Sony Australia\, H
 uman Nature has released 13 studio albums\, four of which went to No. 1 in
  Australia. They have garnered 27 awards\, 19 Top 40 singles\, and five To
 p hits worldwide\, and have sold more than 2.5 million albums in Australia
  alone. In 2005\, Human Nature turned its attention to the music of Motown
  with the album Reach Out: The Motown Record.\n\nTicket link: https://www.
 lyrictheatre.com/show/11570-john-pizzarelli-catherine-russell-present-bill
 ie-blue-eyes
X-WR-RELCALID:68c6947044698cc56efc94cf56921dc5
X-WR-TIMEZONE:America/New_York
BEGIN:VTIMEZONE
TZID:America/New_York
BEGIN:STANDARD
TZNAME:EST
DTSTART:20251102T020000
TZOFFSETFROM:-0400
TZOFFSETTO:-0500
RDATE:20261101T020000
END:STANDARD
BEGIN:DAYLIGHT
TZNAME:EDT
DTSTART:20250309T020000
TZOFFSETFROM:-0500
TZOFFSETTO:-0400
RDATE:20260308T020000
RDATE:20270314T020000
END:DAYLIGHT
END:VTIMEZONE
BEGIN:VEVENT
UID:525edaad-fcbd-4908-baa7-f40c2daaa999
DTSTAMP:20260424T143924Z
DESCRIPTION:It all began with four friends in high school. More than two de
 cades ago\, brothers Andrew and Mike Tierney and their friends\, Phil Burt
 on and Toby Atlas\, formed an Australian boy band\, 4Trax. Distinctive har
 monies caught the attention of Sony Music Australia’s CEO and after they p
 erformed an acappella version of “People Get Ready\,” they were signed to 
 a contract on the spot. They changed the band’s name to Human Nature and t
 he rest\, as they say\, is history. Since signing with Sony Australia\, Hu
 man Nature has released 13 studio albums\, four of which went to No. 1 in 
 Australia. They have garnered 27 awards\, 19 Top 40 singles\, and five Top
  hits worldwide\, and have sold more than 2.5 million albums in Australia 
 alone. In 2005\, Human Nature turned its attention to the music of Motown 
 with the album Reach Out: The Motown Record.\n\nTicket link: https://www.l
 yrictheatre.com/show/11570-john-pizzarelli-catherine-russell-present-billi
 e-blue-eyes
DTSTART;TZID=America/New_York:20260128T190000
DTEND;TZID=America/New_York:20260128T203000
LOCATION:59 SW Flagler Ave\, Stuart\, FL 34994 US
SUMMARY:Human Nature - Back to the Sound of Motown
END:VEVENT
END:VCALENDAR
