BEGIN:VCALENDAR
VERSION:2.0
PRODID:-//www.martinarts.org//NONSGML kigkonsult.se iCalcreator 2.30.10//
CALSCALE:GREGORIAN
METHOD:PUBLISH
UID:5947fbcb-0efc-4ecf-804c-9acdfc27316b
X-WR-CALDESC:
X-WR-RELCALID:7db08754bdb55ebb7d4941636016302f
X-WR-TIMEZONE:America/New_York
BEGIN:VTIMEZONE
TZID:America/New_York
BEGIN:STANDARD
TZNAME:EST
DTSTART:20251102T020000
TZOFFSETFROM:-0400
TZOFFSETTO:-0500
RDATE:20261101T020000
END:STANDARD
BEGIN:DAYLIGHT
TZNAME:EDT
DTSTART:20250309T020000
TZOFFSETFROM:-0500
TZOFFSETTO:-0400
RDATE:20260308T020000
RDATE:20270314T020000
END:DAYLIGHT
END:VTIMEZONE
BEGIN:VEVENT
UID:cdb67e16-2099-4335-941a-ad0892bb26b6
DTSTAMP:20260424T142113Z
DESCRIPTION:
DTSTART;TZID=America/New_York:20260129T173000
DTEND;TZID=America/New_York:20260129T183000
LOCATION:80 SE Ocean Blvd\, Stuart\, FL 34990 US
SUMMARY:MartinArts Council Board Meeting
END:VEVENT
END:VCALENDAR
