BEGIN:VCALENDAR
VERSION:2.0
PRODID:-//www.martinarts.org//NONSGML kigkonsult.se iCalcreator 2.30.10//
CALSCALE:GREGORIAN
METHOD:PUBLISH
UID:3efbb911-686b-44cb-94df-1be2d1e9afc8
X-WR-CALDESC:Creedence Revived has rapidly become one of the most highly so
 ught after tribute bands in the world. Playing all over the globe for crow
 ds upwards of 30\,000\, and with a track-record of selling out shows every
 where they go\, this group is the real deal. The group is made up of four 
 of Chicago’s & LA’s most talented and eclectic musicians - consisting of a
 n award winning vocalist nicknamed “the chameleon” in the industry for his
  unique ability to shift his vocal to match the style of any vocalist\, a 
 world-renowned blues guitarist who attracts blues fans from around the wor
 ld\, a studio bassist who has appeared on many top charting albums\, and a
  drummer who sells out theaters on his own based solely on his unique play
 ing style. Representing America across the globe\, Creedence Revived has t
 oured Europe and Malaysia.\n\nTicket link: https://www.lyrictheatre.com/sh
 ow/11666-creedence-revived
X-WR-RELCALID:1aeec81a36f78fec3ad5ef080c5d1de1
X-WR-TIMEZONE:America/New_York
BEGIN:VTIMEZONE
TZID:America/New_York
BEGIN:STANDARD
TZNAME:EST
DTSTART:20251102T020000
TZOFFSETFROM:-0400
TZOFFSETTO:-0500
RDATE:20261101T020000
END:STANDARD
BEGIN:DAYLIGHT
TZNAME:EDT
DTSTART:20250309T020000
TZOFFSETFROM:-0500
TZOFFSETTO:-0400
RDATE:20260308T020000
RDATE:20270314T020000
END:DAYLIGHT
END:VTIMEZONE
BEGIN:VEVENT
UID:4c4303ac-ed64-46a7-b3e8-283491ea0cec
DTSTAMP:20260424T155100Z
DESCRIPTION:Creedence Revived has rapidly become one of the most highly sou
 ght after tribute bands in the world. Playing all over the globe for crowd
 s upwards of 30\,000\, and with a track-record of selling out shows everyw
 here they go\, this group is the real deal. The group is made up of four o
 f Chicago’s & LA’s most talented and eclectic musicians - consisting of an
  award winning vocalist nicknamed “the chameleon” in the industry for his 
 unique ability to shift his vocal to match the style of any vocalist\, a w
 orld-renowned blues guitarist who attracts blues fans from around the worl
 d\, a studio bassist who has appeared on many top charting albums\, and a 
 drummer who sells out theaters on his own based solely on his unique playi
 ng style. Representing America across the globe\, Creedence Revived has to
 ured Europe and Malaysia.\n\nTicket link: https://www.lyrictheatre.com/sho
 w/11666-creedence-revived
DTSTART;TZID=America/New_York:20260130T190000
DTEND;TZID=America/New_York:20260130T203000
LOCATION:59 SW Flagler Ave\, Stuart\, FL 34994 US
SUMMARY:Creedence Revived
END:VEVENT
END:VCALENDAR
