BEGIN:VCALENDAR
VERSION:2.0
PRODID:-//www.martinarts.org//NONSGML kigkonsult.se iCalcreator 2.30.10//
CALSCALE:GREGORIAN
METHOD:PUBLISH
UID:c2b85ff6-c63f-4f16-a355-fafd38c5771f
X-WR-CALDESC:Come see a dozen of the world’s most talented four-legged perf
 ormers\, in an uproariously funny\, comedy dog spectacular that is leaving
  audiences everywhere howling for more! The all-star lineup includes a Gui
 nness World Record holder\, an America’s Got Talent fan favorite\, and a h
 ost of amazing rescue dogs that will dance\, prance\, flip\, and skip thei
 r way right into your heart. Deemed “a must see” by The Washington Post\, 
 Mutts Gone Nuts - Unleashed is sure to win Best in Show!\n\nTicket link: h
 ttps://www.lyrictheatre.com/show/11574-mutts-gone-nuts-unleashed
X-WR-RELCALID:5712ccba6facba7d533c8cc6e1bcee64
X-WR-TIMEZONE:America/New_York
BEGIN:VTIMEZONE
TZID:America/New_York
BEGIN:STANDARD
TZNAME:EST
DTSTART:20251102T020000
TZOFFSETFROM:-0400
TZOFFSETTO:-0500
RDATE:20261101T020000
END:STANDARD
BEGIN:DAYLIGHT
TZNAME:EDT
DTSTART:20250309T020000
TZOFFSETFROM:-0500
TZOFFSETTO:-0400
RDATE:20260308T020000
RDATE:20270314T020000
END:DAYLIGHT
END:VTIMEZONE
BEGIN:VEVENT
UID:6344234a-8596-4d6e-95f6-0c1b9bf44ec9
DTSTAMP:20260424T125655Z
DESCRIPTION:Come see a dozen of the world’s most talented four-legged perfo
 rmers\, in an uproariously funny\, comedy dog spectacular that is leaving 
 audiences everywhere howling for more! The all-star lineup includes a Guin
 ness World Record holder\, an America’s Got Talent fan favorite\, and a ho
 st of amazing rescue dogs that will dance\, prance\, flip\, and skip their
  way right into your heart. Deemed “a must see” by The Washington Post\, M
 utts Gone Nuts - Unleashed is sure to win Best in Show!\n\nTicket link: ht
 tps://www.lyrictheatre.com/show/11574-mutts-gone-nuts-unleashed
DTSTART;TZID=America/New_York:20260131T190000
DTEND;TZID=America/New_York:20260131T203000
LOCATION:59 SW Flagler Ave\, Stuart\, FL 34994 US
SUMMARY:Mutts Gone Nuts – Unleashed
END:VEVENT
END:VCALENDAR
