BEGIN:VCALENDAR
VERSION:2.0
PRODID:-//www.martinarts.org//NONSGML kigkonsult.se iCalcreator 2.30.10//
CALSCALE:GREGORIAN
METHOD:PUBLISH
UID:08c46ab6-2a6e-4294-ab1c-f89d3b081063
X-WR-CALDESC:An exploration into art with Linda Casario at the Artists' Noo
 k located within Stuart Art Supply.\n\nVarious Mediums are covered. Ages 6
  - 15.\n\nCall for Info: 609.970.6723\nEmail purplemadder@gmail.com
X-WR-RELCALID:e7f49d61bca5f2d71620c50f00a02831
X-WR-TIMEZONE:America/New_York
BEGIN:VTIMEZONE
TZID:America/New_York
BEGIN:STANDARD
TZNAME:EST
DTSTART:20251102T020000
TZOFFSETFROM:-0400
TZOFFSETTO:-0500
RDATE:20261101T020000
END:STANDARD
BEGIN:DAYLIGHT
TZNAME:EDT
DTSTART:20250309T020000
TZOFFSETFROM:-0500
TZOFFSETTO:-0400
RDATE:20260308T020000
RDATE:20270314T020000
END:DAYLIGHT
END:VTIMEZONE
BEGIN:VEVENT
UID:d2bc3f6b-6211-4173-87e3-5e98fa6e29db
DTSTAMP:20260424T113714Z
DESCRIPTION:An exploration into art with Linda Casario at the Artists' Nook
  located within Stuart Art Supply.\n\nVarious Mediums are covered. Ages 6 
 - 15.\n\nCall for Info: 609.970.6723\nEmail purplemadder@gmail.com
DTSTART;TZID=America/New_York:20260204T163000
DTEND;TZID=America/New_York:20260204T180000
LOCATION:Stuart Art Supply\, 45 SE Kindred St\, Stuart\, FL 34994
SUMMARY:#ART Classes up to 15 YO
END:VEVENT
END:VCALENDAR
