BEGIN:VCALENDAR
VERSION:2.0
PRODID:-//www.martinarts.org//NONSGML kigkonsult.se iCalcreator 2.30.10//
CALSCALE:GREGORIAN
METHOD:PUBLISH
UID:cd293070-81a5-490b-971f-ef9b9e31b947
X-WR-CALDESC:Mark Maynard went to the source when he wanted a blessing to p
 erform a Frankie Valli tribute. He arranged to meet Valli after a 1993 sho
 w at the Desert Inn Hotel and Casino in Las Vegas and sang a few classic t
 unes for the legendary singer. Maynard received Valli’s approval and encou
 ragement to perform a tribute show\; he has been reminding people of the g
 enius of Valli ever since. Francesco Stephen Castelluccio was born in New 
 Jersey some 90 years ago. Armed with his signature falsetto\, he and the F
 our Seasons had 29 Top 40 hits\, including “Sherry\,” “Big Girls Don’t Cry
 \,” “Rag Doll\,” and “Walk Like a Man.” He also had nine hits as a solo ar
 tist. His life and career were told in the hit Broadway musical Jersey Boy
 s and gave Maynard a wealth of material from which to draw.\n\nTicket link
 : https://www.lyrictheatre.com/show/11579-from-jersey-to-broadway-the-life
 -and-music-of-frankie-valli-starring-mark-maynard
X-WR-RELCALID:1052ced5f7e3e12b557ff8e8ed47f0ae
X-WR-TIMEZONE:America/New_York
BEGIN:VTIMEZONE
TZID:America/New_York
BEGIN:STANDARD
TZNAME:EST
DTSTART:20251102T020000
TZOFFSETFROM:-0400
TZOFFSETTO:-0500
RDATE:20261101T020000
END:STANDARD
BEGIN:DAYLIGHT
TZNAME:EDT
DTSTART:20250309T020000
TZOFFSETFROM:-0500
TZOFFSETTO:-0400
RDATE:20260308T020000
RDATE:20270314T020000
END:DAYLIGHT
END:VTIMEZONE
BEGIN:VEVENT
UID:100f3d0d-4f2c-435a-ba38-bbab6480e63f
DTSTAMP:20260424T132607Z
DESCRIPTION:Mark Maynard went to the source when he wanted a blessing to pe
 rform a Frankie Valli tribute. He arranged to meet Valli after a 1993 show
  at the Desert Inn Hotel and Casino in Las Vegas and sang a few classic tu
 nes for the legendary singer. Maynard received Valli’s approval and encour
 agement to perform a tribute show\; he has been reminding people of the ge
 nius of Valli ever since. Francesco Stephen Castelluccio was born in New J
 ersey some 90 years ago. Armed with his signature falsetto\, he and the Fo
 ur Seasons had 29 Top 40 hits\, including “Sherry\,” “Big Girls Don’t Cry\
 ,” “Rag Doll\,” and “Walk Like a Man.” He also had nine hits as a solo art
 ist. His life and career were told in the hit Broadway musical Jersey Boys
  and gave Maynard a wealth of material from which to draw.\n\nTicket link:
  https://www.lyrictheatre.com/show/11579-from-jersey-to-broadway-the-life-
 and-music-of-frankie-valli-starring-mark-maynard
DTSTART;TZID=America/New_York:20260204T190000
DTEND;TZID=America/New_York:20260204T203000
LOCATION:59 SW Flagler Ave\, Stuart\, FL 34994 US
SUMMARY:From Jersey to Broadway: The Life and Music of Frankie Valli Starri
 ng Mark Maynard
END:VEVENT
END:VCALENDAR
