BEGIN:VCALENDAR
VERSION:2.0
PRODID:-//www.martinarts.org//NONSGML kigkonsult.se iCalcreator 2.30.10//
CALSCALE:GREGORIAN
METHOD:PUBLISH
UID:31a4128b-50c1-4c9f-ac29-b19efbbcae03
X-WR-CALDESC:🌊 Environmental Studies Council Presents: The Deep Diver 2026 
 Learning Series ✨🌊n\nWe are thrilled to kick off our 2026 Learning Series 
 with an incredible first presenter!\n\n🎥Tom Fitz — Emmy Award–winning wild
 life cinematographer\, producer\, and director — will take us beneath the 
 surface to explore the wonders of our natural world through his breathtaki
 ng storytelling and imagery.\n\n📅February 4\, 2026\n⏰ 5:00 PM\n📍Environmen
 tal Studies Center\n\nJoin us for an inspiring evening of learning\, disco
 very\, and deep dives into wildlife conservation and cinematography. This 
 is one you won’t want to miss! 🌎\n\nMark your calendars and share with a f
 riend!\n\nhttps://www.facebook.com/share/1EJhGPBZJ5/
X-WR-RELCALID:acb102274f6202695034e31a1a4c3292
X-WR-TIMEZONE:America/New_York
BEGIN:VTIMEZONE
TZID:America/New_York
BEGIN:STANDARD
TZNAME:EST
DTSTART:20251102T020000
TZOFFSETFROM:-0400
TZOFFSETTO:-0500
RDATE:20261101T020000
END:STANDARD
BEGIN:DAYLIGHT
TZNAME:EDT
DTSTART:20250309T020000
TZOFFSETFROM:-0500
TZOFFSETTO:-0400
RDATE:20260308T020000
RDATE:20270314T020000
END:DAYLIGHT
END:VTIMEZONE
BEGIN:VEVENT
UID:1c4be989-f90c-45e8-9d0a-df8386d0db4f
DTSTAMP:20260424T112955Z
DESCRIPTION:🌊 Environmental Studies Council Presents: The Deep Diver 2026 L
 earning Series ✨🌊n\nWe are thrilled to kick off our 2026 Learning Series w
 ith an incredible first presenter!\n\n🎥Tom Fitz — Emmy Award–winning wildl
 ife cinematographer\, producer\, and director — will take us beneath the s
 urface to explore the wonders of our natural world through his breathtakin
 g storytelling and imagery.\n\n📅February 4\, 2026\n⏰ 5:00 PM\n📍Environment
 al Studies Center\n\nJoin us for an inspiring evening of learning\, discov
 ery\, and deep dives into wildlife conservation and cinematography. This i
 s one you won’t want to miss! 🌎\n\nMark your calendars and share with a fr
 iend!\n\nhttps://www.facebook.com/share/1EJhGPBZJ5/
DTSTART;TZID=America/New_York:20260204T170000
DTEND;TZID=America/New_York:20260204T190000
LOCATION:2900 NE Indian River Dr\, Jensen Beach\, FL 34957 US
SUMMARY:Tom Fitz\, The Deep Diver 2026 Learning Series - Environmental Stud
 ies Council
END:VEVENT
END:VCALENDAR
