BEGIN:VCALENDAR
VERSION:2.0
PRODID:-//www.martinarts.org//NONSGML kigkonsult.se iCalcreator 2.30.10//
CALSCALE:GREGORIAN
METHOD:PUBLISH
UID:4dee1eb5-70aa-4bb9-8a5a-70f0b8e1da4b
X-WR-CALDESC:A hometown celebration arts and culture\, the 2-day event prov
 ides the area with exceptional fine art and fine craft exhibitors\, culina
 ry arts\, hands-on activities for the family\, and a variety of live music
 al and theatrical performances. Since its inception in 1988\, ArtsFest has
  grown to become one of the most cherished and well-attended community eve
 nts on the Treasure Coast.\n\nGeneral Admission Tickets: https://secure.qg
 iv.com/for/theartscouncil/event/artsfest2026/\n\nArt of Food & Wine Ticket
 s: https://secure.qgiv.com/for/theartscouncil/event/artsfest2026/
X-WR-RELCALID:4fc544c54fa0910c7c18eef7e566ea99
X-WR-TIMEZONE:America/New_York
BEGIN:VTIMEZONE
TZID:America/New_York
BEGIN:STANDARD
TZNAME:EST
DTSTART:20251102T020000
TZOFFSETFROM:-0400
TZOFFSETTO:-0500
RDATE:20261101T020000
END:STANDARD
BEGIN:DAYLIGHT
TZNAME:EDT
DTSTART:20250309T020000
TZOFFSETFROM:-0500
TZOFFSETTO:-0400
RDATE:20260308T020000
RDATE:20270314T020000
END:DAYLIGHT
END:VTIMEZONE
BEGIN:VEVENT
UID:8169eb6d-0861-4491-b1ba-e2b276a97e4c
DTSTAMP:20260424T112836Z
DESCRIPTION:A hometown celebration arts and culture\, the 2-day event provi
 des the area with exceptional fine art and fine craft exhibitors\, culinar
 y arts\, hands-on activities for the family\, and a variety of live musica
 l and theatrical performances. Since its inception in 1988\, ArtsFest has 
 grown to become one of the most cherished and well-attended community even
 ts on the Treasure Coast.\n\nGeneral Admission Tickets: https://secure.qgi
 v.com/for/theartscouncil/event/artsfest2026/\n\nArt of Food & Wine Tickets
 : https://secure.qgiv.com/for/theartscouncil/event/artsfest2026/
DTSTART;TZID=America/New_York:20260207T100000
DTEND;TZID=America/New_York:20260207T180000
LOCATION:Memorial Park\, Stuart
SUMMARY:ArtsFest 2026
END:VEVENT
END:VCALENDAR
