BEGIN:VCALENDAR
VERSION:2.0
PRODID:-//www.martinarts.org//NONSGML kigkonsult.se iCalcreator 2.30.10//
CALSCALE:GREGORIAN
METHOD:PUBLISH
UID:e8d86a1b-6a27-404e-b695-27bdaeff1429
X-WR-CALDESC:New This Year at ArtsFest: The Art of Food & Wine!\nNew this y
 ear at ArtsFest\, immerse yourself in The Art of Food & Wine\, a flavorful
  celebration of the culinary arts! Guests will delight in curated tastings
  from exceptional food and wine vendors\, savoring gourmet bites and perfe
 ctly paired sips. This exclusive experience blends artistry and flavor\, o
 ffering a chance to indulge in culinary excellence while enjoying the vibr
 ant festival atmosphere. It’s a feast for the senses you won’t want to mis
 s!\n\nKickoff Party – Friday\, February 6\, 2026\, 6PM | The Grove Cucina 
 & Wine\, Hobe Sound\nTickets: $150 ($200 after January 1)\nJoin us as we l
 aunch a weekend of culinary adventure at The Grove Cucina & Wine! Explore 
 an array of wine tastings with your very own souvenir glass and choose fro
 m over 100 bottles paired with flavorful appetizers. \n\nThe Plaza at Arts
 Fest – February 7 & 8\, 2026\, 12PM-4PM | Memorial Park\, Stuart\nTickets:
  $125 ($150 after January 1) | Attend both days for $200 ($250 after Janua
 ry 1)\nTake your ArtsFest weekend to the next level with our brand-new Pla
 za Lounge! Be one of the first to savor this one-of-a-kind tasting journey
  filled with curated food and wine booths (and your very own souvenir tast
 ing glass). Indulge in perfectly paired bites and pours in a vibrant atmos
 phere where flavor and art come together. We can’t wait to welcome you to 
 this celebration of the culinary arts!\n\nSip\, Savor\, and Save for Later
 !\nWhile attending The Plaza @ ArtsFest\, you can order bottles from your 
 favorite participating wine vendors during the event and pick them up late
 r at The Grove\, Cucina & Wine. That means you can enjoy tasting without w
 orrying about carrying your favorites home — and take home a selection you
  love!\n\nDon’t just attend—taste the art!
X-WR-RELCALID:a07c0127e0212636f976c76246d12e89
X-WR-TIMEZONE:America/New_York
BEGIN:VTIMEZONE
TZID:America/New_York
BEGIN:STANDARD
TZNAME:EST
DTSTART:20251102T020000
TZOFFSETFROM:-0400
TZOFFSETTO:-0500
RDATE:20261101T020000
END:STANDARD
BEGIN:DAYLIGHT
TZNAME:EDT
DTSTART:20250309T020000
TZOFFSETFROM:-0500
TZOFFSETTO:-0400
RDATE:20260308T020000
RDATE:20270314T020000
END:DAYLIGHT
END:VTIMEZONE
BEGIN:VEVENT
UID:c095e11f-eca1-4891-9cf6-2a7a2ec2995c
DTSTAMP:20260424T132607Z
DESCRIPTION:New This Year at ArtsFest: The Art of Food & Wine!\nNew this ye
 ar at ArtsFest\, immerse yourself in The Art of Food & Wine\, a flavorful 
 celebration of the culinary arts! Guests will delight in curated tastings 
 from exceptional food and wine vendors\, savoring gourmet bites and perfec
 tly paired sips. This exclusive experience blends artistry and flavor\, of
 fering a chance to indulge in culinary excellence while enjoying the vibra
 nt festival atmosphere. It’s a feast for the senses you won’t want to miss
 !\n\nKickoff Party – Friday\, February 6\, 2026\, 6PM | The Grove Cucina &
  Wine\, Hobe Sound\nTickets: $150 ($200 after January 1)\nJoin us as we la
 unch a weekend of culinary adventure at The Grove Cucina & Wine! Explore a
 n array of wine tastings with your very own souvenir glass and choose from
  over 100 bottles paired with flavorful appetizers. \n\nThe Plaza at ArtsF
 est – February 7 & 8\, 2026\, 12PM-4PM | Memorial Park\, Stuart\nTickets: 
 $125 ($150 after January 1) | Attend both days for $200 ($250 after Januar
 y 1)\nTake your ArtsFest weekend to the next level with our brand-new Plaz
 a Lounge! Be one of the first to savor this one-of-a-kind tasting journey 
 filled with curated food and wine booths (and your very own souvenir tasti
 ng glass). Indulge in perfectly paired bites and pours in a vibrant atmosp
 here where flavor and art come together. We can’t wait to welcome you to t
 his celebration of the culinary arts!\n\nSip\, Savor\, and Save for Later!
 \nWhile attending The Plaza @ ArtsFest\, you can order bottles from your f
 avorite participating wine vendors during the event and pick them up later
  at The Grove\, Cucina & Wine. That means you can enjoy tasting without wo
 rrying about carrying your favorites home — and take home a selection you 
 love!\n\nDon’t just attend—taste the art!
DTSTART;TZID=America/New_York:20260208T120000
DTEND;TZID=America/New_York:20260208T160000
LOCATION:300 SE Ocean Blvd\, Stuart\, FL 34994 US
SUMMARY:The Art of Food & Wine at ArtsFest
END:VEVENT
END:VCALENDAR
