BEGIN:VCALENDAR
VERSION:2.0
PRODID:-//www.martinarts.org//NONSGML kigkonsult.se iCalcreator 2.30.10//
CALSCALE:GREGORIAN
METHOD:PUBLISH
UID:482aa5ad-62a8-4bd8-bef1-45468aeca131
X-WR-CALDESC:“Valentine’s Concert” with the glorious voice of soprano Loria
 nna Colozzo singing favorite songs of love. With pianist Marie Jureit-Beam
 ish.\n\n• Admission: $5 for non-members\; free for current MartinArts memb
 ers (based on membership level)\n• Open to the public.\n• Advanced registr
 ation closes 1 hour prior to performance.\n
X-WR-RELCALID:92a55ba66a15847b8958ddb8b30eb76a
X-WR-TIMEZONE:America/New_York
BEGIN:VTIMEZONE
TZID:America/New_York
BEGIN:STANDARD
TZNAME:EST
DTSTART:20251102T020000
TZOFFSETFROM:-0400
TZOFFSETTO:-0500
RDATE:20261101T020000
END:STANDARD
BEGIN:DAYLIGHT
TZNAME:EDT
DTSTART:20250309T020000
TZOFFSETFROM:-0500
TZOFFSETTO:-0400
RDATE:20260308T020000
RDATE:20270314T020000
END:DAYLIGHT
END:VTIMEZONE
BEGIN:VEVENT
UID:220529b0-9d02-426d-879c-17a9c7c2392e
DTSTAMP:20260424T131235Z
DESCRIPTION:“Valentine’s Concert” with the glorious voice of soprano Lorian
 na Colozzo singing favorite songs of love. With pianist Marie Jureit-Beami
 sh.\n\n• Admission: $5 for non-members\; free for current MartinArts membe
 rs (based on membership level)\n• Open to the public.\n• Advanced registra
 tion closes 1 hour prior to performance.\n
DTSTART;TZID=America/New_York:20260210T173000
DTEND;TZID=America/New_York:20260210T183000
LOCATION:Court House Cultural Center\, 80 SE Ocean Blvd.\, Stuart\, FL 3499
 4 US
SUMMARY:Sunset Concerts at the Gallery
END:VEVENT
END:VCALENDAR
