BEGIN:VCALENDAR
VERSION:2.0
PRODID:-//www.martinarts.org//NONSGML kigkonsult.se iCalcreator 2.30.10//
CALSCALE:GREGORIAN
METHOD:PUBLISH
UID:b97d55c1-8076-4baa-a199-a9f37bf22d53
X-WR-CALDESC:
X-WR-RELCALID:8a80e6115aee5ee69669055763209fe8
X-WR-TIMEZONE:America/New_York
BEGIN:VTIMEZONE
TZID:America/New_York
BEGIN:STANDARD
TZNAME:EST
DTSTART:20251102T020000
TZOFFSETFROM:-0400
TZOFFSETTO:-0500
RDATE:20261101T020000
END:STANDARD
BEGIN:DAYLIGHT
TZNAME:EDT
DTSTART:20250309T020000
TZOFFSETFROM:-0500
TZOFFSETTO:-0400
RDATE:20260308T020000
RDATE:20270314T020000
END:DAYLIGHT
END:VTIMEZONE
BEGIN:VEVENT
UID:53a6a3b7-30c8-41c3-9b42-f7eb992b2e2f
DTSTAMP:20260424T112958Z
DESCRIPTION:
DTSTART;TZID=America/New_York:20260212T180000
DTEND;TZID=America/New_York:20260212T200000
LOCATION:8168 SW Jack James Dr\, Stuart\, FL 34997 US
SUMMARY:Art\, Cars & Wine Tasting
END:VEVENT
END:VCALENDAR
