BEGIN:VCALENDAR
VERSION:2.0
PRODID:-//www.martinarts.org//NONSGML kigkonsult.se iCalcreator 2.30.10//
CALSCALE:GREGORIAN
METHOD:PUBLISH
UID:9ccb7a29-6397-4ce4-a1ec-78daa7de8465
X-WR-CALDESC:Mussorgsky/arr. Rimsky Korsakov- Night on Bald Mountain / Prok
 ofiev- Violin Concerto No. 2\, op.63 featuring Hina Khoung-Huu\, violin / 
 Tchaikovsky- Sleeping Beauty: Suite\, op.66a\n\nTicket Link: https://atlan
 ticclassicalorchestra.my.salesforce-sites.com/ticket/#/events/a0SPM000001l
 oOz2AI
X-WR-RELCALID:97e77b1f26f0592d1b8c64f9391613b1
X-WR-TIMEZONE:America/New_York
BEGIN:VTIMEZONE
TZID:America/New_York
BEGIN:STANDARD
TZNAME:EST
DTSTART:20251102T020000
TZOFFSETFROM:-0400
TZOFFSETTO:-0500
RDATE:20261101T020000
END:STANDARD
BEGIN:DAYLIGHT
TZNAME:EDT
DTSTART:20250309T020000
TZOFFSETFROM:-0500
TZOFFSETTO:-0400
RDATE:20260308T020000
RDATE:20270314T020000
END:DAYLIGHT
END:VTIMEZONE
BEGIN:VEVENT
UID:3fc6a7f1-9569-43a3-9b52-66ea537642b1
DTSTAMP:20260424T112656Z
DESCRIPTION:Mussorgsky/arr. Rimsky Korsakov- Night on Bald Mountain / Proko
 fiev- Violin Concerto No. 2\, op.63 featuring Hina Khoung-Huu\, violin / T
 chaikovsky- Sleeping Beauty: Suite\, op.66a\n\nTicket Link: https://atlant
 icclassicalorchestra.my.salesforce-sites.com/ticket/#/events/a0SPM000001lo
 Oz2AI
DTSTART;TZID=America/New_York:20260213T153000
DTEND;TZID=America/New_York:20260213T170000
LOCATION:The Lyric Theatre
SUMMARY:Masterworks Series II
END:VEVENT
END:VCALENDAR
