BEGIN:VCALENDAR
VERSION:2.0
PRODID:-//www.martinarts.org//NONSGML kigkonsult.se iCalcreator 2.30.10//
CALSCALE:GREGORIAN
METHOD:PUBLISH
UID:c01b1f58-cc90-42e6-8ff1-cd7c76c6f7eb
X-WR-CALDESC:Mussorgsky/arr. Rimsky Korsakov- Night on Bald Mountain / Prok
 ofiev- Violin Concerto No. 2\, op.63 featuring Hina Khoung-Huu\, violin / 
 Tchaikovsky- Sleeping Beauty: Suite\, op.66a\n\nTicket Link: https://atlan
 ticclassicalorchestra.my.salesforce-sites.com/ticket/#/events/a0SPM000001l
 oOz2AI
X-WR-RELCALID:8c5c84b15053a947b793fbe0c7146337
X-WR-TIMEZONE:America/New_York
BEGIN:VTIMEZONE
TZID:America/New_York
BEGIN:STANDARD
TZNAME:EST
DTSTART:20251102T020000
TZOFFSETFROM:-0400
TZOFFSETTO:-0500
RDATE:20261101T020000
END:STANDARD
BEGIN:DAYLIGHT
TZNAME:EDT
DTSTART:20250309T020000
TZOFFSETFROM:-0500
TZOFFSETTO:-0400
RDATE:20260308T020000
RDATE:20270314T020000
END:DAYLIGHT
END:VTIMEZONE
BEGIN:VEVENT
UID:62beeb66-b813-40e7-9453-58455e2f2b92
DTSTAMP:20260424T112657Z
DESCRIPTION:Mussorgsky/arr. Rimsky Korsakov- Night on Bald Mountain / Proko
 fiev- Violin Concerto No. 2\, op.63 featuring Hina Khoung-Huu\, violin / T
 chaikovsky- Sleeping Beauty: Suite\, op.66a\n\nTicket Link: https://atlant
 icclassicalorchestra.my.salesforce-sites.com/ticket/#/events/a0SPM000001lo
 Oz2AI
DTSTART;TZID=America/New_York:20260213T193000
DTEND;TZID=America/New_York:20260213T210000
LOCATION:The Lyric Theatre
SUMMARY:Masterworks Series II
END:VEVENT
END:VCALENDAR
