BEGIN:VCALENDAR
VERSION:2.0
PRODID:-//www.martinarts.org//NONSGML kigkonsult.se iCalcreator 2.30.10//
CALSCALE:GREGORIAN
METHOD:PUBLISH
UID:b6b000d7-65eb-4cc0-a7b6-ab0c97527e31
X-WR-CALDESC:Experience an extraordinary\, energizing concert that pays tri
 bute to the legendary Lionel Richie and The Commodores. Renowned tribute a
 rtist Kenan Ellison will take the stage to perform the greatest hits\, del
 ighting audiences with unforgettable classics such as “All Night Long\,” “
 Brick House\,” “Truly\,” “Hello\,” “Say You\, Say Me\,” “Easy\,” “Zoom\,” 
 and\, of course\, “Dancing on the Ceiling.” The evening promises many more
  memorable hits\, ensuring a dynamic musical journey through Richie’s and 
 The Commodores’ most celebrated songs.\n\nTicket Link: https://www.barnthe
 atretickets.com/Home/ListShowings?aid=277
X-WR-RELCALID:39fe482b89f97b9f6644a3a1a856ca31
X-WR-TIMEZONE:America/New_York
BEGIN:VTIMEZONE
TZID:America/New_York
BEGIN:STANDARD
TZNAME:EST
DTSTART:20251102T020000
TZOFFSETFROM:-0400
TZOFFSETTO:-0500
RDATE:20261101T020000
END:STANDARD
BEGIN:DAYLIGHT
TZNAME:EDT
DTSTART:20250309T020000
TZOFFSETFROM:-0500
TZOFFSETTO:-0400
RDATE:20260308T020000
RDATE:20270314T020000
END:DAYLIGHT
END:VTIMEZONE
BEGIN:VEVENT
UID:da4dec77-46bf-4b36-9093-f01c1091c2f5
DTSTAMP:20260424T132257Z
DESCRIPTION:Experience an extraordinary\, energizing concert that pays trib
 ute to the legendary Lionel Richie and The Commodores. Renowned tribute ar
 tist Kenan Ellison will take the stage to perform the greatest hits\, deli
 ghting audiences with unforgettable classics such as “All Night Long\,” “B
 rick House\,” “Truly\,” “Hello\,” “Say You\, Say Me\,” “Easy\,” “Zoom\,” a
 nd\, of course\, “Dancing on the Ceiling.” The evening promises many more 
 memorable hits\, ensuring a dynamic musical journey through Richie’s and T
 he Commodores’ most celebrated songs.\n\nTicket Link: https://www.barnthea
 tretickets.com/Home/ListShowings?aid=277
DTSTART;TZID=America/New_York:20260214T140000
DTEND;TZID=America/New_York:20260214T153000
LOCATION:The Barn Theatre
SUMMARY:Lionel Richie & The Comodores Tribute Concert - 'Dancing on the Cei
 ling'
END:VEVENT
END:VCALENDAR
