BEGIN:VCALENDAR
VERSION:2.0
PRODID:-//www.martinarts.org//NONSGML kigkonsult.se iCalcreator 2.30.10//
CALSCALE:GREGORIAN
METHOD:PUBLISH
UID:745971e9-0ed7-4afc-8a2d-9f1236b8dec0
X-WR-CALDESC:Get ready for an unforgettable night of music and memories as 
 The Barn Theatre presents Dancing on the Ceiling – A Tribute to Lionel Ric
 hie and the Commodores. Dynamic and powerhouse vocalist Keenan Ellison\, b
 rings Lionel’s legendary voice and stage presence to life with uncanny pre
 cision.\n​\nFrom timeless Commodores hits like Brick House\, Easy\, and Th
 ree Times a Lady to Lionel Richie solo classics including Hello\, All Nigh
 t Long\, Say You\, Say Me\, and of course Dancing on the Ceiling\, the sho
 w delivers hit after hit in a high-energy\, crowd-pleasing performance.\n
 \nJoin us for this special fundraising concert supporting The Barn Theatre
 ’s New Vision Campaign. One weekend only — don’t miss your chance to exper
 ience the ultimate tribute to one of music’s most iconic voices.\n\nTicket
  Link: https://www.barntheatretickets.com/Home/ListShowings?aid=277
X-WR-RELCALID:55b72dfad2a5a7cd571fbfc79bfd129b
X-WR-TIMEZONE:America/New_York
BEGIN:VTIMEZONE
TZID:America/New_York
BEGIN:STANDARD
TZNAME:EST
DTSTART:20251102T020000
TZOFFSETFROM:-0400
TZOFFSETTO:-0500
RDATE:20261101T020000
END:STANDARD
BEGIN:DAYLIGHT
TZNAME:EDT
DTSTART:20250309T020000
TZOFFSETFROM:-0500
TZOFFSETTO:-0400
RDATE:20260308T020000
RDATE:20270314T020000
END:DAYLIGHT
END:VTIMEZONE
BEGIN:VEVENT
UID:9b889418-5753-4d72-985c-ed82eae629c5
DTSTAMP:20260424T132012Z
DESCRIPTION:Get ready for an unforgettable night of music and memories as T
 he Barn Theatre presents Dancing on the Ceiling – A Tribute to Lionel Rich
 ie and the Commodores. Dynamic and powerhouse vocalist Keenan Ellison\, br
 ings Lionel’s legendary voice and stage presence to life with uncanny prec
 ision.\n​\nFrom timeless Commodores hits like Brick House\, Easy\, and Thr
 ee Times a Lady to Lionel Richie solo classics including Hello\, All Night
  Long\, Say You\, Say Me\, and of course Dancing on the Ceiling\, the show
  delivers hit after hit in a high-energy\, crowd-pleasing performance.\n\n
 Join us for this special fundraising concert supporting The Barn Theatre’s
  New Vision Campaign. One weekend only — don’t miss your chance to experie
 nce the ultimate tribute to one of music’s most iconic voices.\n\nTicket L
 ink: https://www.barntheatretickets.com/Home/ListShowings?aid=277
DTSTART;TZID=America/New_York:20260214T140000
DTEND;TZID=America/New_York:20260214T160000
LOCATION:The Barn Theatre
SUMMARY:Lionel Richie Tribute Concert
END:VEVENT
END:VCALENDAR
