BEGIN:VCALENDAR
VERSION:2.0
PRODID:-//www.martinarts.org//NONSGML kigkonsult.se iCalcreator 2.30.10//
CALSCALE:GREGORIAN
METHOD:PUBLISH
UID:21f7127d-135e-4dad-8c75-64c4505edf52
X-WR-CALDESC:Get ready for an unforgettable night of music and memories as 
 The Barn Theatre presents Dancing on the Ceiling – A Tribute to Lionel Ric
 hie and the Commodores. Dynamic and powerhouse vocalist Keenan Ellison\, b
 rings Lionel’s legendary voice and stage presence to life with uncanny pre
 cision.\n\nFrom timeless Commodores hits like Brick House\, Easy\, and Thr
 ee Times a Lady to Lionel Richie solo classics including Hello\, All Night
  Long\, Say You\, Say Me\, and of course Dancing on the Ceiling\, the show
  delivers hit after hit in a high-energy\, crowd-pleasing performance.\n\n
 Join us for this special fundraising concert supporting The Barn Theatre’s
  New Vision Campaign. One weekend only — don’t miss your chance to experie
 nce the ultimate tribute to one of music’s most iconic voices.\n\nTicket L
 ink: https://www.barntheatretickets.com/Home/ListShowings?aid=277
X-WR-RELCALID:a56ef418f52e023de0a3c63d451fd0c6
X-WR-TIMEZONE:America/New_York
BEGIN:VTIMEZONE
TZID:America/New_York
BEGIN:STANDARD
TZNAME:EST
DTSTART:20251102T020000
TZOFFSETFROM:-0400
TZOFFSETTO:-0500
RDATE:20261101T020000
END:STANDARD
BEGIN:DAYLIGHT
TZNAME:EDT
DTSTART:20250309T020000
TZOFFSETFROM:-0500
TZOFFSETTO:-0400
RDATE:20260308T020000
RDATE:20270314T020000
END:DAYLIGHT
END:VTIMEZONE
BEGIN:VEVENT
UID:1f5b69ce-c38f-4d36-96fe-9b15b9086228
DTSTAMP:20260424T132012Z
DESCRIPTION:Get ready for an unforgettable night of music and memories as T
 he Barn Theatre presents Dancing on the Ceiling – A Tribute to Lionel Rich
 ie and the Commodores. Dynamic and powerhouse vocalist Keenan Ellison\, br
 ings Lionel’s legendary voice and stage presence to life with uncanny prec
 ision.\n\nFrom timeless Commodores hits like Brick House\, Easy\, and Thre
 e Times a Lady to Lionel Richie solo classics including Hello\, All Night 
 Long\, Say You\, Say Me\, and of course Dancing on the Ceiling\, the show 
 delivers hit after hit in a high-energy\, crowd-pleasing performance.\n\nJ
 oin us for this special fundraising concert supporting The Barn Theatre’s 
 New Vision Campaign. One weekend only — don’t miss your chance to experien
 ce the ultimate tribute to one of music’s most iconic voices.\n\nTicket Li
 nk: https://www.barntheatretickets.com/Home/ListShowings?aid=277
DTSTART;TZID=America/New_York:20260214T200000
DTEND;TZID=America/New_York:20260214T220000
LOCATION:Barn Theatre
SUMMARY:Lionel Richie Tribute Concert
END:VEVENT
END:VCALENDAR
