BEGIN:VCALENDAR
VERSION:2.0
PRODID:-//www.martinarts.org//NONSGML kigkonsult.se iCalcreator 2.30.10//
CALSCALE:GREGORIAN
METHOD:PUBLISH
UID:6e53a7d0-2b1d-46e1-af33-4bdbec2b8bce
X-WR-CALDESC:'The Country Star' VIP Package Admission to a private pre-show
  event featuring a two-song performance by Marty Stuart and His Fabulous S
 uperlatives\, along with a Q & A Storytelling session. Includes: One VIP L
 aminate and Lanyard Crowd Free Merchandise Shopping One Special Edition Po
 ster *Please note Marty will no longer sign venue or guitars and/or poster
 s. Unfortunately\, we have found these istems available for online auction
 /resale markets and have decided to only sign items for Congress of Countr
 y Music charity events.\n\nTicket link: https://www.lyrictheatre.com/show/
 11723-marty-stuart-and-his-fabulous-superlatives
X-WR-RELCALID:db9ee2dbc696ccce91a745e76289054b
X-WR-TIMEZONE:America/New_York
BEGIN:VTIMEZONE
TZID:America/New_York
BEGIN:STANDARD
TZNAME:EST
DTSTART:20251102T020000
TZOFFSETFROM:-0400
TZOFFSETTO:-0500
RDATE:20261101T020000
END:STANDARD
BEGIN:DAYLIGHT
TZNAME:EDT
DTSTART:20250309T020000
TZOFFSETFROM:-0500
TZOFFSETTO:-0400
RDATE:20260308T020000
RDATE:20270314T020000
END:DAYLIGHT
END:VTIMEZONE
BEGIN:VEVENT
UID:561772b8-6a74-4c61-b017-e1b7628ce949
DTSTAMP:20260424T113624Z
DESCRIPTION:'The Country Star' VIP Package Admission to a private pre-show 
 event featuring a two-song performance by Marty Stuart and His Fabulous Su
 perlatives\, along with a Q & A Storytelling session. Includes: One VIP La
 minate and Lanyard Crowd Free Merchandise Shopping One Special Edition Pos
 ter *Please note Marty will no longer sign venue or guitars and/or posters
 . Unfortunately\, we have found these istems available for online auction/
 resale markets and have decided to only sign items for Congress of Country
  Music charity events.\n\nTicket link: https://www.lyrictheatre.com/show/1
 1723-marty-stuart-and-his-fabulous-superlatives
DTSTART;TZID=America/New_York:20260218T190000
DTEND;TZID=America/New_York:20260218T203000
LOCATION:59 SW Flagler Ave\, Stuart\, FL 34994 US
SUMMARY:Marty Stuart and His Fabulous Superlatives. Meet & Greet Package
END:VEVENT
END:VCALENDAR
