BEGIN:VCALENDAR
VERSION:2.0
PRODID:-//www.martinarts.org//NONSGML kigkonsult.se iCalcreator 2.30.10//
CALSCALE:GREGORIAN
METHOD:PUBLISH
UID:98a0847b-12ce-4c37-9e8a-1bbcfe36197a
X-WR-CALDESC:With more than 20 years as a stand-up comedian\, Tom Papa is o
 ne of the top comedic voices in the country\, finding success as an actor\
 , host\, and author\, in film\, TV\, radio and podcasts as well as on the 
 live stage.  The comedian has had 6 highly rated stand-up specials includi
 ng his most recent Netflix stand-up special\, Home Free\, which premiered 
 on October 29th\, 2024. Filmed at the Warner Theatre in Washington\, D.C.\
 , Tom holds nothing back\, as his kids are finally out of the house and it
 ’s just him\, his wife and a bunch of animals ready to return to their glo
 ry days. Tom has seen a lot over the years\, from close calls with a pachi
 nko ball to late night 7-Eleven runs\, and he’s sharing all his thoughts a
 s he parties on into the next stage of life. Papa’s other specials include
  What A Day!\, You’re Doing Great!\, Human Mule\, Freaked Out and Tom Papa
  Live in New York City\, two of which were directed by Rob Zombie.\n\nTick
 et link: https://www.lyrictheatre.com/show/11634-tom-papa
X-WR-RELCALID:9c78d95c6afddb6899f40eee6c18b6d2
X-WR-TIMEZONE:America/New_York
BEGIN:VTIMEZONE
TZID:America/New_York
BEGIN:STANDARD
TZNAME:EST
DTSTART:20251102T020000
TZOFFSETFROM:-0400
TZOFFSETTO:-0500
RDATE:20261101T020000
END:STANDARD
BEGIN:DAYLIGHT
TZNAME:EDT
DTSTART:20250309T020000
TZOFFSETFROM:-0500
TZOFFSETTO:-0400
RDATE:20260308T020000
RDATE:20270314T020000
END:DAYLIGHT
END:VTIMEZONE
BEGIN:VEVENT
UID:70e3b0b2-9773-4ac2-b272-3f89eaecac66
DTSTAMP:20260424T112703Z
DESCRIPTION:With more than 20 years as a stand-up comedian\, Tom Papa is on
 e of the top comedic voices in the country\, finding success as an actor\,
  host\, and author\, in film\, TV\, radio and podcasts as well as on the l
 ive stage.  The comedian has had 6 highly rated stand-up specials includin
 g his most recent Netflix stand-up special\, Home Free\, which premiered o
 n October 29th\, 2024. Filmed at the Warner Theatre in Washington\, D.C.\,
  Tom holds nothing back\, as his kids are finally out of the house and it’
 s just him\, his wife and a bunch of animals ready to return to their glor
 y days. Tom has seen a lot over the years\, from close calls with a pachin
 ko ball to late night 7-Eleven runs\, and he’s sharing all his thoughts as
  he parties on into the next stage of life. Papa’s other specials include 
 What A Day!\, You’re Doing Great!\, Human Mule\, Freaked Out and Tom Papa 
 Live in New York City\, two of which were directed by Rob Zombie.\n\nTicke
 t link: https://www.lyrictheatre.com/show/11634-tom-papa
DTSTART;TZID=America/New_York:20260220T190000
DTEND;TZID=America/New_York:20260220T203000
LOCATION:59 SW Flagler Ave\, Stuart\, FL 34994 US
SUMMARY:Tom Papa
END:VEVENT
END:VCALENDAR
