BEGIN:VCALENDAR
VERSION:2.0
PRODID:-//www.martinarts.org//NONSGML kigkonsult.se iCalcreator 2.30.10//
CALSCALE:GREGORIAN
METHOD:PUBLISH
UID:ca42c0ed-c59a-4bb7-b23e-2b5be4156a85
X-WR-CALDESC:The Open Studio Tour offers a glimpse into the creative proces
 s and the opportunity to support local artists. It allows for a more intim
 ate and interactive experience compared to traditional art shows or galler
 ies.
X-WR-RELCALID:931235f102f0332cc7637ad3b89db959
X-WR-TIMEZONE:America/New_York
BEGIN:VTIMEZONE
TZID:America/New_York
BEGIN:STANDARD
TZNAME:EST
DTSTART:20251102T020000
TZOFFSETFROM:-0400
TZOFFSETTO:-0500
RDATE:20261101T020000
END:STANDARD
BEGIN:DAYLIGHT
TZNAME:EDT
DTSTART:20250309T020000
TZOFFSETFROM:-0500
TZOFFSETTO:-0400
RDATE:20260308T020000
RDATE:20270314T020000
END:DAYLIGHT
END:VTIMEZONE
BEGIN:VEVENT
UID:bff18e14-ef68-4565-ae43-03a661e6a871
DTSTAMP:20260424T125826Z
DESCRIPTION:The Open Studio Tour offers a glimpse into the creative process
  and the opportunity to support local artists. It allows for a more intima
 te and interactive experience compared to traditional art shows or galleri
 es.
DTSTART;TZID=America/New_York:20260221T100000
DTEND;TZID=America/New_York:20260221T170000
LOCATION:https://martinartisansguild.org/mcost-1
SUMMARY:2026 Martin County Open Studio & Gallery Tour
END:VEVENT
END:VCALENDAR
