BEGIN:VCALENDAR
VERSION:2.0
PRODID:-//www.martinarts.org//NONSGML kigkonsult.se iCalcreator 2.30.10//
CALSCALE:GREGORIAN
METHOD:PUBLISH
UID:194dbce6-2c7a-4b16-8e36-e56b0f41e0b7
X-WR-CALDESC:Ticket Link: https://www.lyrictheatre.com/show/11686-ana-popov
 ic-dance-to-the-rhythm-tour
X-WR-RELCALID:1f6a760fcdd9ca0f81641050d3a1a12b
X-WR-TIMEZONE:America/New_York
BEGIN:VTIMEZONE
TZID:America/New_York
BEGIN:STANDARD
TZNAME:EST
DTSTART:20251102T020000
TZOFFSETFROM:-0400
TZOFFSETTO:-0500
RDATE:20261101T020000
END:STANDARD
BEGIN:DAYLIGHT
TZNAME:EDT
DTSTART:20250309T020000
TZOFFSETFROM:-0500
TZOFFSETTO:-0400
RDATE:20260308T020000
RDATE:20270314T020000
END:DAYLIGHT
END:VTIMEZONE
BEGIN:VEVENT
UID:c510ff97-c288-49ab-bf24-4589c9ac3975
DTSTAMP:20260424T113102Z
DESCRIPTION:Ticket Link: https://www.lyrictheatre.com/show/11686-ana-popovi
 c-dance-to-the-rhythm-tour
DTSTART;TZID=America/New_York:20260221T190000
DTEND;TZID=America/New_York:20260221T210000
LOCATION:59 SW Flagler Ave\, Stuart\, FL 34994 US
SUMMARY:Ana Popovic Dance To The Rhythm Tour
END:VEVENT
END:VCALENDAR
