BEGIN:VCALENDAR
VERSION:2.0
PRODID:-//www.martinarts.org//NONSGML kigkonsult.se iCalcreator 2.30.10//
CALSCALE:GREGORIAN
METHOD:PUBLISH
UID:a90a11a8-3cdf-4f5a-83a6-7b6a849ed1fc
X-WR-CALDESC:https://www.lyrictheatre.com/show/11475-rescheduled-hotter-tha
 n-july-tribute-to-stevie-wonder
X-WR-RELCALID:82c8b1c2323fa27ca496bb5935bfc7bf
X-WR-TIMEZONE:America/New_York
BEGIN:VTIMEZONE
TZID:America/New_York
BEGIN:STANDARD
TZNAME:EST
DTSTART:20251102T020000
TZOFFSETFROM:-0400
TZOFFSETTO:-0500
RDATE:20261101T020000
END:STANDARD
BEGIN:DAYLIGHT
TZNAME:EDT
DTSTART:20250309T020000
TZOFFSETFROM:-0500
TZOFFSETTO:-0400
RDATE:20260308T020000
RDATE:20270314T020000
END:DAYLIGHT
END:VTIMEZONE
BEGIN:VEVENT
UID:84c28a29-085b-44ec-8ac8-8af04000f7e1
DTSTAMP:20260424T113817Z
DESCRIPTION:https://www.lyrictheatre.com/show/11475-rescheduled-hotter-than
 -july-tribute-to-stevie-wonder
DTSTART;TZID=America/New_York:20260224T190000
DTEND;TZID=America/New_York:20260224T210000
LOCATION:59 SW Flagler Ave\, Stuart\, FL 34994 US
SUMMARY:RESCHEDULED ~ Hotter Than July - Tribute to Stevie Wonder
END:VEVENT
END:VCALENDAR
