BEGIN:VCALENDAR
VERSION:2.0
PRODID:-//www.martinarts.org//NONSGML kigkonsult.se iCalcreator 2.30.10//
CALSCALE:GREGORIAN
METHOD:PUBLISH
UID:b01ab23c-cbae-44df-b26b-0969c9f92b38
X-WR-CALDESC:đźŚŠźŽ­ Deep Dive in Learning: Where Inclusion Meets Innovation đźŽ¨ź“š\n
 \nThe Environmental Studies Council is proud to present a Deep Dive in Lea
 rning focused on inclusion and arts-integrated education across the curric
 ulum.\n\nGet ready for an unforgettable experience with Janeen Mason\, a t
 rue dynamo who brings Science\, Technology\, Engineering\, Art\, and Math 
 (STEAM) to life through her book Ocean Commotion: Caught in the Currents. 
 Using readerâ€™s theater and a giant world map\, students step into history 
 to recreate the true story of 28\,000 rubber ducks that went overboard dur
 ing a powerful storm on June 10\, 1992.\n\nTogether\, they explore big que
 stions:\nđź¦†Where did the ducks go?\nđźŚŤHow did they get there?\nâŹ±ď¸Ź How long d
 id it take?\nđź”ŤWho discovered them?\nđź’™And why do these bathtub toys matter 
 to us today?\n\nđź“…February 25\nâŹ° 5:00 PM\n\nJaneen will be working alongsid
 e the Eco Team at JBE to deliver an amazing\, engaging presentation that b
 lends storytelling\, movement\, science\, and imaginationâ€”showing how the 
 arts can open doors for all learners.\n\nDonâ€™t miss this inspiring journey
  across oceans\, disciplines\, and minds!\n\nhttps://www.facebook.com/shar
 e/1G7enAbVnh/
X-WR-RELCALID:21b614e988c5948137e556d0e2786878
X-WR-TIMEZONE:America/New_York
BEGIN:VTIMEZONE
TZID:America/New_York
BEGIN:STANDARD
TZNAME:EST
DTSTART:20251102T020000
TZOFFSETFROM:-0400
TZOFFSETTO:-0500
RDATE:20261101T020000
END:STANDARD
BEGIN:DAYLIGHT
TZNAME:EDT
DTSTART:20250309T020000
TZOFFSETFROM:-0500
TZOFFSETTO:-0400
RDATE:20260308T020000
RDATE:20270314T020000
END:DAYLIGHT
END:VTIMEZONE
BEGIN:VEVENT
UID:20cb2a8f-7492-47fb-827a-3979227216bf
DTSTAMP:20260424T113011Z
DESCRIPTION:đźŚŠźŽ­ Deep Dive in Learning: Where Inclusion Meets Innovation đźŽ¨ź“š\n\n
 The Environmental Studies Council is proud to present a Deep Dive in Learn
 ing focused on inclusion and arts-integrated education across the curricul
 um.\n\nGet ready for an unforgettable experience with Janeen Mason\, a tru
 e dynamo who brings Science\, Technology\, Engineering\, Art\, and Math (S
 TEAM) to life through her book Ocean Commotion: Caught in the Currents. Us
 ing readerâ€™s theater and a giant world map\, students step into history to
  recreate the true story of 28\,000 rubber ducks that went overboard durin
 g a powerful storm on June 10\, 1992.\n\nTogether\, they explore big quest
 ions:\nđź¦†Where did the ducks go?\nđźŚŤHow did they get there?\nâŹ±ď¸Ź How long did
  it take?\nđź”ŤWho discovered them?\nđź’™And why do these bathtub toys matter to
  us today?\n\nđź“…February 25\nâŹ° 5:00 PM\n\nJaneen will be working alongside 
 the Eco Team at JBE to deliver an amazing\, engaging presentation that ble
 nds storytelling\, movement\, science\, and imaginationâ€”showing how the ar
 ts can open doors for all learners.\n\nDonâ€™t miss this inspiring journey a
 cross oceans\, disciplines\, and minds!\n\nhttps://www.facebook.com/share/
 1G7enAbVnh/
DTSTART;TZID=America/New_York:20260225T170000
DTEND;TZID=America/New_York:20260225T190000
LOCATION:2900 NE Indian River Dr\, Jensen Beach\, FL 34957 US
SUMMARY:Janeen Mason\, Deep Dive in Learning: Where Inclusion Meets Innovat
 ion - Environmental Studies Center
END:VEVENT
END:VCALENDAR
