BEGIN:VCALENDAR
VERSION:2.0
PRODID:-//www.martinarts.org//NONSGML kigkonsult.se iCalcreator 2.30.10//
CALSCALE:GREGORIAN
METHOD:PUBLISH
UID:1f57ee87-eec8-4e99-b211-8d87c15d2302
X-WR-CALDESC:North Mississippi Allstars started by brother Luther and Cody 
 Dickinson in 1996 as a loose collective of musicians from their North Miss
 issippi home inspired by their father Jim Dickinson as well as neighbors a
 nd musical elders of their community\; RL Burnside\, Junior Kimbrough\, Ot
 ha Turner and Fred McDowell. Luther’s first national tour was the RL Burns
 ide Ass Pocket of Whiskey tour in 1997\, selling out shows in the US and C
 anada. “Kenny Brown hired me to tour with RL and Cedric and showed me the 
 ropes. That experience blew my mind. Cody and I have been on the road ever
  since.” NMA began touring in 1998 and over the years the touring lineup h
 as included\, Cedric\, Duwayne and Garry Burnside\, Chris Chew\, Berry Oak
 ley Jr\, Oteil Burbruidgem and currently Joey Williams of the Blind Boys o
 f Alabama and Ray Ray Hollowman\, guitar player for Eminem and Nee-O.\n\nT
 icket Link: https://www.lyrictheatre.com/show/11753-north-mississippi-alls
 tars
X-WR-RELCALID:d78e571b4b8851257eae512d1791996d
X-WR-TIMEZONE:America/New_York
BEGIN:VTIMEZONE
TZID:America/New_York
BEGIN:STANDARD
TZNAME:EST
DTSTART:20251102T020000
TZOFFSETFROM:-0400
TZOFFSETTO:-0500
RDATE:20261101T020000
END:STANDARD
BEGIN:DAYLIGHT
TZNAME:EDT
DTSTART:20250309T020000
TZOFFSETFROM:-0500
TZOFFSETTO:-0400
RDATE:20260308T020000
RDATE:20270314T020000
END:DAYLIGHT
END:VTIMEZONE
BEGIN:VEVENT
UID:eb99535a-2a7b-48d0-8b0b-f7c3f54f6d7b
DTSTAMP:20260424T114330Z
DESCRIPTION:North Mississippi Allstars started by brother Luther and Cody D
 ickinson in 1996 as a loose collective of musicians from their North Missi
 ssippi home inspired by their father Jim Dickinson as well as neighbors an
 d musical elders of their community\; RL Burnside\, Junior Kimbrough\, Oth
 a Turner and Fred McDowell. Luther’s first national tour was the RL Burnsi
 de Ass Pocket of Whiskey tour in 1997\, selling out shows in the US and Ca
 nada. “Kenny Brown hired me to tour with RL and Cedric and showed me the r
 opes. That experience blew my mind. Cody and I have been on the road ever 
 since.” NMA began touring in 1998 and over the years the touring lineup ha
 s included\, Cedric\, Duwayne and Garry Burnside\, Chris Chew\, Berry Oakl
 ey Jr\, Oteil Burbruidgem and currently Joey Williams of the Blind Boys of
  Alabama and Ray Ray Hollowman\, guitar player for Eminem and Nee-O.\n\nTi
 cket Link: https://www.lyrictheatre.com/show/11753-north-mississippi-allst
 ars
DTSTART;TZID=America/New_York:20260225T190000
DTEND;TZID=America/New_York:20260225T210000
LOCATION:The Lyric Theatre
SUMMARY:North Mississippi Allstars at The Lyric Theatre
END:VEVENT
END:VCALENDAR
