BEGIN:VCALENDAR
VERSION:2.0
PRODID:-//www.martinarts.org//NONSGML kigkonsult.se iCalcreator 2.30.10//
CALSCALE:GREGORIAN
METHOD:PUBLISH
UID:c00e6c8c-9b67-48f8-9305-901d5794391a
X-WR-CALDESC:Palm City Art Associates' Annual Art Show and Sale starting wi
 th the Opening Reception on February 26 from 5:30-7PM! \n\nCome Friday\, F
 eb. 27 (10:30-5) and Saturday\, Feb. 28th (12:30-5) and enjoy original art
 work\, see live demonstrations and shop for original art gifts. \n\nEveryo
 ne is welcome – please share and join us!
X-WR-RELCALID:72e908befbde85b359318929ed12978d
X-WR-TIMEZONE:America/New_York
BEGIN:VTIMEZONE
TZID:America/New_York
BEGIN:STANDARD
TZNAME:EST
DTSTART:20251102T020000
TZOFFSETFROM:-0400
TZOFFSETTO:-0500
RDATE:20261101T020000
END:STANDARD
BEGIN:DAYLIGHT
TZNAME:EDT
DTSTART:20250309T020000
TZOFFSETFROM:-0500
TZOFFSETTO:-0400
RDATE:20260308T020000
RDATE:20270314T020000
END:DAYLIGHT
END:VTIMEZONE
BEGIN:VEVENT
UID:97940702-5b97-4ac4-a425-288d75c02240
DTSTAMP:20260424T114433Z
DESCRIPTION:Palm City Art Associates' Annual Art Show and Sale starting wit
 h the Opening Reception on February 26 from 5:30-7PM! \n\nCome Friday\, Fe
 b. 27 (10:30-5) and Saturday\, Feb. 28th (12:30-5) and enjoy original artw
 ork\, see live demonstrations and shop for original art gifts. \n\nEveryon
 e is welcome – please share and join us!
DTSTART;TZID=America/New_York:20260226T123000
DTEND;TZID=America/New_York:20260226T190000
LOCATION:Peter & Julie Cummings Library\, 2551 SW Matheson Ave\, Palm City\
 , FL 34990 US
SUMMARY:Palm City Art Associates Annual Art Show and Sale - Opening Recepti
 on
END:VEVENT
END:VCALENDAR
