BEGIN:VCALENDAR
VERSION:2.0
PRODID:-//www.martinarts.org//NONSGML kigkonsult.se iCalcreator 2.30.10//
CALSCALE:GREGORIAN
METHOD:PUBLISH
UID:9949b25b-0a7b-4140-8fdf-04c4899ef0c0
X-WR-CALDESC:Join David Friedman\, MD\, for an insightful lecture on how th
 oughtfully curated art in healthcare environments can transform patient ex
 periences and support caregiver well-being. Explore the science behind art
 ’s impact on stress reduction\, emotional resilience\, and healing and why
  it’s a vital component of holistic care.\n\nDavid W. Friedman\, MD\, FACS
 \, currently heads the Section of Hand and Upper Extremity Surgery for Cle
 veland Clinic Florida and serves as Director of the Arts & Medicine Center
 . His specialty interests include fractures of the hand\, wrist\, and dist
 al radius\, microsurgery\, nerve compressions\, sports injuries\, arthriti
 s and reconstructive surgery. He works collaboratively with the Department
 s of Orthopaedic and Plastic Surgery.\n\nCleveland Clinic is a nonprofit\,
  multispecialty academic medical center that's recognized in the U.S. and 
 throughout the world for its expertise and care. Visit us online at http:/
 /www.clevelandclinic.org for a complete listing of our services\, staff an
 d locations.
X-WR-RELCALID:70e62797e0983761f83a849e65545c17
X-WR-TIMEZONE:America/New_York
BEGIN:VTIMEZONE
TZID:America/New_York
BEGIN:STANDARD
TZNAME:EST
DTSTART:20251102T020000
TZOFFSETFROM:-0400
TZOFFSETTO:-0500
RDATE:20261101T020000
END:STANDARD
BEGIN:DAYLIGHT
TZNAME:EDT
DTSTART:20250309T020000
TZOFFSETFROM:-0500
TZOFFSETTO:-0400
RDATE:20260308T020000
RDATE:20270314T020000
END:DAYLIGHT
END:VTIMEZONE
BEGIN:VEVENT
UID:3a66bb42-994f-4abd-9056-1654884111df
DTSTAMP:20260424T114236Z
DESCRIPTION:Join David Friedman\, MD\, for an insightful lecture on how tho
 ughtfully curated art in healthcare environments can transform patient exp
 eriences and support caregiver well-being. Explore the science behind art’
 s impact on stress reduction\, emotional resilience\, and healing and why 
 it’s a vital component of holistic care.\n\nDavid W. Friedman\, MD\, FACS\
 , currently heads the Section of Hand and Upper Extremity Surgery for Clev
 eland Clinic Florida and serves as Director of the Arts & Medicine Center.
  His specialty interests include fractures of the hand\, wrist\, and dista
 l radius\, microsurgery\, nerve compressions\, sports injuries\, arthritis
  and reconstructive surgery. He works collaboratively with the Departments
  of Orthopaedic and Plastic Surgery.\n\nCleveland Clinic is a nonprofit\, 
 multispecialty academic medical center that's recognized in the U.S. and t
 hroughout the world for its expertise and care. Visit us online at http://
 www.clevelandclinic.org for a complete listing of our services\, staff and
  locations.
DTSTART;TZID=America/New_York:20260226T150000
DTEND;TZID=America/New_York:20260226T160000
LOCATION:80 SE Ocean Blvd.\, Stuart\, FL 34994 US
SUMMARY:Art in Clinical Spaces: Why It Matters for Patients and Caregivers 
 presented by Cleveland Clinic
END:VEVENT
END:VCALENDAR
