BEGIN:VCALENDAR
VERSION:2.0
PRODID:-//www.martinarts.org//NONSGML kigkonsult.se iCalcreator 2.30.10//
CALSCALE:GREGORIAN
METHOD:PUBLISH
UID:601bc4d9-387d-4ff9-aee4-ba0ce76f35b9
X-WR-CALDESC:
X-WR-RELCALID:50b71084c574cd1f62a915af4ab3bdc1
X-WR-TIMEZONE:America/New_York
BEGIN:VTIMEZONE
TZID:America/New_York
BEGIN:STANDARD
TZNAME:EST
DTSTART:20251102T020000
TZOFFSETFROM:-0400
TZOFFSETTO:-0500
RDATE:20261101T020000
END:STANDARD
BEGIN:DAYLIGHT
TZNAME:EDT
DTSTART:20250309T020000
TZOFFSETFROM:-0500
TZOFFSETTO:-0400
RDATE:20260308T020000
RDATE:20270314T020000
END:DAYLIGHT
END:VTIMEZONE
BEGIN:VEVENT
UID:58175c61-962f-4c74-a551-a3ce9a0958ad
DTSTAMP:20260424T112953Z
DESCRIPTION:
DTSTART;TZID=America/New_York:20260227T170000
DTEND;TZID=America/New_York:20260227T190000
LOCATION:11870 SE Dixie Hwy\, Hobe Sound\, FL 33455 US
SUMMARY:'a shell called the Neptune' Bailey Art Gallery Opening Reception
END:VEVENT
END:VCALENDAR
