BEGIN:VCALENDAR
VERSION:2.0
PRODID:-//www.martinarts.org//NONSGML kigkonsult.se iCalcreator 2.30.10//
CALSCALE:GREGORIAN
METHOD:PUBLISH
UID:5fa79a97-c8e0-4679-9e66-0889bde9c38a
X-WR-CALDESC:Palm City Art Associates' Annual Art Show and Sale starting wi
 th the Opening Reception on February 26 from 5:30-7PM! \n\nCome Friday\, F
 eb. 27 (10:30-5) and Saturday\, Feb. 28th (12:30-5) and enjoy original art
 work\, see live demonstrations and shop for original art gifts. \n\nEveryo
 ne is welcome – please share and join us!
X-WR-RELCALID:1471908264e3488c9b481beba478a565
X-WR-TIMEZONE:America/New_York
BEGIN:VTIMEZONE
TZID:America/New_York
BEGIN:STANDARD
TZNAME:EST
DTSTART:20251102T020000
TZOFFSETFROM:-0400
TZOFFSETTO:-0500
RDATE:20261101T020000
END:STANDARD
BEGIN:DAYLIGHT
TZNAME:EDT
DTSTART:20250309T020000
TZOFFSETFROM:-0500
TZOFFSETTO:-0400
RDATE:20260308T020000
RDATE:20270314T020000
END:DAYLIGHT
END:VTIMEZONE
BEGIN:VEVENT
UID:f6efa0af-0f71-4931-a05f-1b2653f80477
DTSTAMP:20260424T114411Z
DESCRIPTION:Palm City Art Associates' Annual Art Show and Sale starting wit
 h the Opening Reception on February 26 from 5:30-7PM! \n\nCome Friday\, Fe
 b. 27 (10:30-5) and Saturday\, Feb. 28th (12:30-5) and enjoy original artw
 ork\, see live demonstrations and shop for original art gifts. \n\nEveryon
 e is welcome – please share and join us!
DTSTART;TZID=America/New_York:20260227T103000
DTEND;TZID=America/New_York:20260227T170000
LOCATION:Peter & Julie Cummings Library\, 2551 SW Matheson Ave\, Palm City\
 , FL 34990 US
SUMMARY:Palm City Art Associates Annual Art Show and Sale
END:VEVENT
END:VCALENDAR
