BEGIN:VCALENDAR
VERSION:2.0
PRODID:-//www.martinarts.org//NONSGML kigkonsult.se iCalcreator 2.30.10//
CALSCALE:GREGORIAN
METHOD:PUBLISH
UID:fc741378-770e-405d-a8a6-3b07a5389049
X-WR-CALDESC:Experience Hobe Sound Farms After Hours—a lively night on the 
 farm featuring live music from Gabriel Key\, sling shot at the Bouquet Bun
 ker\, food trucks\, animal encounters\, and nighttime hayride tours around
  the farm. Sip on craft beer or cocktails from our full bar!\n\nRegistrati
 on Link: https://form.jotform.com/252054940380150
X-WR-RELCALID:97593efde57e9e4b18f864abecd4e942
X-WR-TIMEZONE:America/New_York
BEGIN:VTIMEZONE
TZID:America/New_York
BEGIN:STANDARD
TZNAME:EST
DTSTART:20251102T020000
TZOFFSETFROM:-0400
TZOFFSETTO:-0500
RDATE:20261101T020000
END:STANDARD
BEGIN:DAYLIGHT
TZNAME:EDT
DTSTART:20250309T020000
TZOFFSETFROM:-0500
TZOFFSETTO:-0400
RDATE:20260308T020000
RDATE:20270314T020000
END:DAYLIGHT
END:VTIMEZONE
BEGIN:VEVENT
UID:f8d122eb-c812-4799-a152-df500ba172f8
DTSTAMP:20260424T131945Z
DESCRIPTION:Experience Hobe Sound Farms After Hours—a lively night on the f
 arm featuring live music from Gabriel Key\, sling shot at the Bouquet Bunk
 er\, food trucks\, animal encounters\, and nighttime hayride tours around 
 the farm. Sip on craft beer or cocktails from our full bar!\n\nRegistratio
 n Link: https://form.jotform.com/252054940380150
DTSTART;TZID=America/New_York:20260227T180000
DTEND;TZID=America/New_York:20260227T210000
LOCATION:Hobe Sound Farms
SUMMARY:Hobe Sound Farms After Hours: Dust & Denim
END:VEVENT
END:VCALENDAR
