BEGIN:VCALENDAR
VERSION:2.0
PRODID:-//www.martinarts.org//NONSGML kigkonsult.se iCalcreator 2.30.10//
CALSCALE:GREGORIAN
METHOD:PUBLISH
UID:05f7c637-470c-4413-a2dd-b342e3e38561
X-WR-CALDESC:STAYIN' ALIVE offers to their audiences the songs and sights o
 f a full Bee Gees playlist\, singing blockbusters such as 'Night Fever\,' 
 'Jive Talkin'\,' 'How Deep Is Your Love\,' 'You Should Be Dancing\,' 'Nigh
 ts on Broadway\,' and 'Stayin' Alive.' In addition\, they perform softer p
 oetic ballads such as 'I Started a Joke\,' 'Massachusetts\,' 'Fanny Be Ten
 der\,' 'Words\,' and 'To Love Somebody\,' among other great hits. STAYIN' 
 ALIVE is the quintessential tribute band to the Bee Gees\, capturing the e
 xcitement of live performance and the tender subtleties of the human voice
 !\n\nTicket Link: https://www.lyrictheatre.com/show/11589-stayin-alive-one
 -night-of-the-bee-gees
X-WR-RELCALID:599fc602e3850b28d10dc86c1f823c60
X-WR-TIMEZONE:America/New_York
BEGIN:VTIMEZONE
TZID:America/New_York
BEGIN:STANDARD
TZNAME:EST
DTSTART:20251102T020000
TZOFFSETFROM:-0400
TZOFFSETTO:-0500
RDATE:20261101T020000
END:STANDARD
BEGIN:DAYLIGHT
TZNAME:EDT
DTSTART:20250309T020000
TZOFFSETFROM:-0500
TZOFFSETTO:-0400
RDATE:20260308T020000
RDATE:20270314T020000
END:DAYLIGHT
END:VTIMEZONE
BEGIN:VEVENT
UID:86fa2ebd-ac1b-4ced-bf4f-4787613288b2
DTSTAMP:20260424T113749Z
DESCRIPTION:STAYIN' ALIVE offers to their audiences the songs and sights of
  a full Bee Gees playlist\, singing blockbusters such as 'Night Fever\,' '
 Jive Talkin'\,' 'How Deep Is Your Love\,' 'You Should Be Dancing\,' 'Night
 s on Broadway\,' and 'Stayin' Alive.' In addition\, they perform softer po
 etic ballads such as 'I Started a Joke\,' 'Massachusetts\,' 'Fanny Be Tend
 er\,' 'Words\,' and 'To Love Somebody\,' among other great hits. STAYIN' A
 LIVE is the quintessential tribute band to the Bee Gees\, capturing the ex
 citement of live performance and the tender subtleties of the human voice!
 \n\nTicket Link: https://www.lyrictheatre.com/show/11589-stayin-alive-one-
 night-of-the-bee-gees
DTSTART;TZID=America/New_York:20260227T203000
DTEND;TZID=America/New_York:20260227T220000
LOCATION:59 SW Flagler Ave\, Stuart\, FL 34994 US
SUMMARY:Stayin' Alive - One Night of The Bee Gees
END:VEVENT
END:VCALENDAR
